Workbook

Sheet Биржан сал
N1: Приложение 5
A2: Свод методиста районного отдела образования | I2: Наименование района_______________________________________________________
I4: Жапарова
A6: Возрастные группы | B6: Кол-во детей | C6: Физическое развитие | F6: Развитие коммуникативных навыков | I6: Развитие познавательных и интеллектуальных навыков | L6: Развитие творческих навыков, исследовательской деятельности детей | O6: Формирование социально-эмоциональных навыков
C7: из них с высоким уровнем навыков | D7: из них со средним уровнем навыков | E7: из них с низким уровнем навыков | F7: из них с высоким уровнем навыков | G7: из них со средним уровнем навыков | H7: из них с низким уровнем навыков | I7: из них с высоким уровнем навыков | J7: из них со средним уровнем навыков | K7: из них с низким уровнем навыков | L7: из них с высоким уровнем навыков | M7: из них со средним уровнем навыков | N7: из них с низким уровнем навыков | O7: из них с высоким уровнем навыков | P7: из них со средним уровнем навыков | Q7: из них с низким уровнем навыков
A8: Группа раннего возраста | B8: =Куншуак!B8+Балдырган!B8+'Ангал. батыр М-Ц, ПРЕДШ. '!B8+'Алга М-Ц, ПРЕДШ.'!B8+'Бирсуат М-Ц,ПРЕДШ'!B8+'Буланда ПРЕДШ.'!B8+'Баймурза М-Ц.ПРЕДШК.'!B8+'Андыкожа М-Ц, ПРЕДШ'!B8+'Джукей ПРЕДШ'!B8+'Енбек М-Ц ПРЕДШ'!B8+'Заозерка М-Ц, ПРЕДШК'!B8+'Зауралов. М-Ц,ПРЕДШ'!B8+'Красноф ПРЕДШ'!B8+'УльгиМ-Ц,ПРЕДШ'!B8+КараталПРЕДШ!B8+КызылумПРЕДШ!B8+'КенащиМ-Ц,ПРЕДШ'!B8+'КудукМ-Ц, ПРЕДШ'!B8+'Когам М-Ц,ПРЕДШ'!B8+'МакпалМ-Ц,ПРЕДШ'!B8+'МамайМ-Ц,ПРЕДШ'!B8+МакинкаПРЕДШ!B8+'ТасшалкарМ-Ц,ПРЕДШ'!B8+'Сауле М-Ц,ПРЕДШ'!B8+'СШ №1 М-Ц,ПРЕДШ'!B8+СШ№2ПРЕДШ!B8+АктасПРЕДШ!B8 -> 0 | C8: =Куншуак!C8+Балдырган!C8+'Ангал. батыр М-Ц, ПРЕДШ. '!C8+'Алга М-Ц, ПРЕДШ.'!C8+'Бирсуат М-Ц,ПРЕДШ'!C8+'Буланда ПРЕДШ.'!C8+'Баймурза М-Ц.ПРЕДШК.'!C8+'Андыкожа М-Ц, ПРЕДШ'!C8+'Джукей ПРЕДШ'!C8+'Енбек М-Ц ПРЕДШ'!C8+'Заозерка М-Ц, ПРЕДШК'!C8+'Зауралов. М-Ц,ПРЕДШ'!C8+'Красноф ПРЕДШ'!C8+'УльгиМ-Ц,ПРЕДШ'!C8+КараталПРЕДШ!C8+КызылумПРЕДШ!C8+'КенащиМ-Ц,ПРЕДШ'!C8+'КудукМ-Ц, ПРЕДШ'!C8+'Когам М-Ц,ПРЕДШ'!C8+'МакпалМ-Ц,ПРЕДШ'!C8+'МамайМ-Ц,ПРЕДШ'!C8+МакинкаПРЕДШ!C8+'ТасшалкарМ-Ц,ПРЕДШ'!C8+'Сауле М-Ц,ПРЕДШ'!C8+'СШ №1 М-Ц,ПРЕДШ'!C8+СШ№2ПРЕДШ!C8+АктасПРЕДШ!C8 -> 0 | D8: =Куншуак!D8+Балдырган!D8+'Ангал. батыр М-Ц, ПРЕДШ. '!D8+'Алга М-Ц, ПРЕДШ.'!D8+'Бирсуат М-Ц,ПРЕДШ'!D8+'Буланда ПРЕДШ.'!D8+'Баймурза М-Ц.ПРЕДШК.'!D8+'Андыкожа М-Ц, ПРЕДШ'!D8+'Джукей ПРЕДШ'!D8+'Енбек М-Ц ПРЕДШ'!D8+'Заозерка М-Ц, ПРЕДШК'!D8+'Зауралов. М-Ц,ПРЕДШ'!D8+'Красноф ПРЕДШ'!D8+'УльгиМ-Ц,ПРЕДШ'!D8+КараталПРЕДШ!D8+КызылумПРЕДШ!D8+'КенащиМ-Ц,ПРЕДШ'!D8+'КудукМ-Ц, ПРЕДШ'!D8+'Когам М-Ц,ПРЕДШ'!D8+'МакпалМ-Ц,ПРЕДШ'!D8+'МамайМ-Ц,ПРЕДШ'!D8+МакинкаПРЕДШ!D8+'ТасшалкарМ-Ц,ПРЕДШ'!D8+'Сауле М-Ц,ПРЕДШ'!D8+'СШ №1 М-Ц,ПРЕДШ'!D8+СШ№2ПРЕДШ!D8+АктасПРЕДШ!D8 -> 0 | E8: =Куншуак!E8+Балдырган!E8+'Ангал. батыр М-Ц, ПРЕДШ. '!E8+'Алга М-Ц, ПРЕДШ.'!E8+'Бирсуат М-Ц,ПРЕДШ'!E8+'Буланда ПРЕДШ.'!E8+'Баймурза М-Ц.ПРЕДШК.'!E8+'Андыкожа М-Ц, ПРЕДШ'!E8+'Джукей ПРЕДШ'!E8+'Енбек М-Ц ПРЕДШ'!E8+'Заозерка М-Ц, ПРЕДШК'!E8+'Зауралов. М-Ц,ПРЕДШ'!E8+'Красноф ПРЕДШ'!E8+'УльгиМ-Ц,ПРЕДШ'!E8+КараталПРЕДШ!E8+КызылумПРЕДШ!E8+'КенащиМ-Ц,ПРЕДШ'!E8+'КудукМ-Ц, ПРЕДШ'!E8+'Когам М-Ц,ПРЕДШ'!E8+'МакпалМ-Ц,ПРЕДШ'!E8+'МамайМ-Ц,ПРЕДШ'!E8+МакинкаПРЕДШ!E8+'ТасшалкарМ-Ц,ПРЕДШ'!E8+'Сауле М-Ц,ПРЕДШ'!E8+'СШ №1 М-Ц,ПРЕДШ'!E8+СШ№2ПРЕДШ!E8+АктасПРЕДШ!E8 -> 0 | F8: =Куншуак!F8+Балдырган!F8+'Ангал. батыр М-Ц, ПРЕДШ. '!F8+'Алга М-Ц, ПРЕДШ.'!F8+'Бирсуат М-Ц,ПРЕДШ'!F8+'Буланда ПРЕДШ.'!F8+'Баймурза М-Ц.ПРЕДШК.'!F8+'Андыкожа М-Ц, ПРЕДШ'!F8+'Джукей ПРЕДШ'!F8+'Енбек М-Ц ПРЕДШ'!F8+'Заозерка М-Ц, ПРЕДШК'!F8+'Зауралов. М-Ц,ПРЕДШ'!F8+'Красноф ПРЕДШ'!F8+'УльгиМ-Ц,ПРЕДШ'!F8+КараталПРЕДШ!F8+КызылумПРЕДШ!F8+'КенащиМ-Ц,ПРЕДШ'!F8+'КудукМ-Ц, ПРЕДШ'!F8+'Когам М-Ц,ПРЕДШ'!F8+'МакпалМ-Ц,ПРЕДШ'!F8+'МамайМ-Ц,ПРЕДШ'!F8+МакинкаПРЕДШ!F8+'ТасшалкарМ-Ц,ПРЕДШ'!F8+'Сауле М-Ц,ПРЕДШ'!F8+'СШ №1 М-Ц,ПРЕДШ'!F8+СШ№2ПРЕДШ!F8+АктасПРЕДШ!F8 -> 0 | G8: =Куншуак!G8+Балдырган!G8+'Ангал. батыр М-Ц, ПРЕДШ. '!G8+'Алга М-Ц, ПРЕДШ.'!G8+'Бирсуат М-Ц,ПРЕДШ'!G8+'Буланда ПРЕДШ.'!G8+'Баймурза М-Ц.ПРЕДШК.'!G8+'Андыкожа М-Ц, ПРЕДШ'!G8+'Джукей ПРЕДШ'!G8+'Енбек М-Ц ПРЕДШ'!G8+'Заозерка М-Ц, ПРЕДШК'!G8+'Зауралов. М-Ц,ПРЕДШ'!G8+'Красноф ПРЕДШ'!G8+'УльгиМ-Ц,ПРЕДШ'!G8+КараталПРЕДШ!G8+КызылумПРЕДШ!G8+'КенащиМ-Ц,ПРЕДШ'!G8+'КудукМ-Ц, ПРЕДШ'!G8+'Когам М-Ц,ПРЕДШ'!G8+'МакпалМ-Ц,ПРЕДШ'!G8+'МамайМ-Ц,ПРЕДШ'!G8+МакинкаПРЕДШ!G8+'ТасшалкарМ-Ц,ПРЕДШ'!G8+'Сауле М-Ц,ПРЕДШ'!G8+'СШ №1 М-Ц,ПРЕДШ'!G8+СШ№2ПРЕДШ!G8+АктасПРЕДШ!G8 -> 0 | H8: =Куншуак!H8+Балдырган!H8+'Ангал. батыр М-Ц, ПРЕДШ. '!H8+'Алга М-Ц, ПРЕДШ.'!H8+'Бирсуат М-Ц,ПРЕДШ'!H8+'Буланда ПРЕДШ.'!H8+'Баймурза М-Ц.ПРЕДШК.'!H8+'Андыкожа М-Ц, ПРЕДШ'!H8+'Джукей ПРЕДШ'!H8+'Енбек М-Ц ПРЕДШ'!H8+'Заозерка М-Ц, ПРЕДШК'!H8+'Зауралов. М-Ц,ПРЕДШ'!H8+'Красноф ПРЕДШ'!H8+'УльгиМ-Ц,ПРЕДШ'!H8+КараталПРЕДШ!H8+КызылумПРЕДШ!H8+'КенащиМ-Ц,ПРЕДШ'!H8+'КудукМ-Ц, ПРЕДШ'!H8+'Когам М-Ц,ПРЕДШ'!H8+'МакпалМ-Ц,ПРЕДШ'!H8+'МамайМ-Ц,ПРЕДШ'!H8+МакинкаПРЕДШ!H8+'ТасшалкарМ-Ц,ПРЕДШ'!H8+'Сауле М-Ц,ПРЕДШ'!H8+'СШ №1 М-Ц,ПРЕДШ'!H8+СШ№2ПРЕДШ!H8+АктасПРЕДШ!H8 -> 0 | I8: =Куншуак!I8+Балдырган!I8+'Ангал. батыр М-Ц, ПРЕДШ. '!I8+'Алга М-Ц, ПРЕДШ.'!I8+'Бирсуат М-Ц,ПРЕДШ'!I8+'Буланда ПРЕДШ.'!I8+'Баймурза М-Ц.ПРЕДШК.'!I8+'Андыкожа М-Ц, ПРЕДШ'!I8+'Джукей ПРЕДШ'!I8+'Енбек М-Ц ПРЕДШ'!I8+'Заозерка М-Ц, ПРЕДШК'!I8+'Зауралов. М-Ц,ПРЕДШ'!I8+'Красноф ПРЕДШ'!I8+'УльгиМ-Ц,ПРЕДШ'!I8+КараталПРЕДШ!I8+КызылумПРЕДШ!I8+'КенащиМ-Ц,ПРЕДШ'!I8+'КудукМ-Ц, ПРЕДШ'!I8+'Когам М-Ц,ПРЕДШ'!I8+'МакпалМ-Ц,ПРЕДШ'!I8+'МамайМ-Ц,ПРЕДШ'!I8+МакинкаПРЕДШ!I8+'ТасшалкарМ-Ц,ПРЕДШ'!I8+'Сауле М-Ц,ПРЕДШ'!I8+'СШ №1 М-Ц,ПРЕДШ'!I8+СШ№2ПРЕДШ!I8+АктасПРЕДШ!I8 -> 0 | ... Q8: =Куншуак!Q8+Балдырган!Q8+'Ангал. батыр М-Ц, ПРЕДШ. '!Q8+'Алга М-Ц, ПРЕДШ.'!Q8+'Бирсуат М-Ц,ПРЕДШ'!Q8+'Буланда ПРЕДШ.'!Q8+'Баймурза М-Ц.ПРЕДШК.'!Q8+'Андыкожа М-Ц, ПРЕДШ'!Q8+'Джукей ПРЕДШ'!Q8+'Енбек М-Ц ПРЕДШ'!Q8+'Заозерка М-Ц, ПРЕДШК'!Q8+'Зауралов. М-Ц,ПРЕДШ'!Q8+'Красноф ПРЕДШ'!Q8+'УльгиМ-Ц,ПРЕДШ'!Q8+КараталПРЕДШ!Q8+КызылумПРЕДШ!Q8+'КенащиМ-Ц,ПРЕДШ'!Q8+'КудукМ-Ц, ПРЕДШ'!Q8+'Когам М-Ц,ПРЕДШ'!Q8+'МакпалМ-Ц,ПРЕДШ'!Q8+'МамайМ-Ц,ПРЕДШ'!Q8+МакинкаПРЕДШ!Q8+'ТасшалкарМ-Ц,ПРЕДШ'!Q8+'Сауле М-Ц,ПРЕДШ'!Q8+'СШ №1 М-Ц,ПРЕДШ'!Q8+СШ№2ПРЕДШ!Q8+АктасПРЕДШ!Q8 -> 0
A9: Младшая группа | B9: =Куншуак!B9+Балдырган!B9+'Ангал. батыр М-Ц, ПРЕДШ. '!B9+'Алга М-Ц, ПРЕДШ.'!B9+'Бирсуат М-Ц,ПРЕДШ'!B9+'Буланда ПРЕДШ.'!B9+'Баймурза М-Ц.ПРЕДШК.'!B9+'Андыкожа М-Ц, ПРЕДШ'!B9+'Джукей ПРЕДШ'!B9+'Енбек М-Ц ПРЕДШ'!B9+'Заозерка М-Ц, ПРЕДШК'!B9+'Зауралов. М-Ц,ПРЕДШ'!B9+'Красноф ПРЕДШ'!B9+'УльгиМ-Ц,ПРЕДШ'!B9+КараталПРЕДШ!B9+КызылумПРЕДШ!B9+'КенащиМ-Ц,ПРЕДШ'!B9+'КудукМ-Ц, ПРЕДШ'!B9+'Когам М-Ц,ПРЕДШ'!B9+'МакпалМ-Ц,ПРЕДШ'!B9+'МамайМ-Ц,ПРЕДШ'!B9+МакинкаПРЕДШ!B9+'ТасшалкарМ-Ц,ПРЕДШ'!B9+'Сауле М-Ц,ПРЕДШ'!B9+'СШ №1 М-Ц,ПРЕДШ'!B9+СШ№2ПРЕДШ!B9+АктасПРЕДШ!B9 -> 0 | C9: =Куншуак!C9+Балдырган!C9+'Ангал. батыр М-Ц, ПРЕДШ. '!C9+'Алга М-Ц, ПРЕДШ.'!C9+'Бирсуат М-Ц,ПРЕДШ'!C9+'Буланда ПРЕДШ.'!C9+'Баймурза М-Ц.ПРЕДШК.'!C9+'Андыкожа М-Ц, ПРЕДШ'!C9+'Джукей ПРЕДШ'!C9+'Енбек М-Ц ПРЕДШ'!C9+'Заозерка М-Ц, ПРЕДШК'!C9+'Зауралов. М-Ц,ПРЕДШ'!C9+'Красноф ПРЕДШ'!C9+'УльгиМ-Ц,ПРЕДШ'!C9+КараталПРЕДШ!C9+КызылумПРЕДШ!C9+'КенащиМ-Ц,ПРЕДШ'!C9+'КудукМ-Ц, ПРЕДШ'!C9+'Когам М-Ц,ПРЕДШ'!C9+'МакпалМ-Ц,ПРЕДШ'!C9+'МамайМ-Ц,ПРЕДШ'!C9+МакинкаПРЕДШ!C9+'ТасшалкарМ-Ц,ПРЕДШ'!C9+'Сауле М-Ц,ПРЕДШ'!C9+'СШ №1 М-Ц,ПРЕДШ'!C9+СШ№2ПРЕДШ!C9+АктасПРЕДШ!C9 -> 0 | D9: =Куншуак!D9+Балдырган!D9+'Ангал. батыр М-Ц, ПРЕДШ. '!D9+'Алга М-Ц, ПРЕДШ.'!D9+'Бирсуат М-Ц,ПРЕДШ'!D9+'Буланда ПРЕДШ.'!D9+'Баймурза М-Ц.ПРЕДШК.'!D9+'Андыкожа М-Ц, ПРЕДШ'!D9+'Джукей ПРЕДШ'!D9+'Енбек М-Ц ПРЕДШ'!D9+'Заозерка М-Ц, ПРЕДШК'!D9+'Зауралов. М-Ц,ПРЕДШ'!D9+'Красноф ПРЕДШ'!D9+'УльгиМ-Ц,ПРЕДШ'!D9+КараталПРЕДШ!D9+КызылумПРЕДШ!D9+'КенащиМ-Ц,ПРЕДШ'!D9+'КудукМ-Ц, ПРЕДШ'!D9+'Когам М-Ц,ПРЕДШ'!D9+'МакпалМ-Ц,ПРЕДШ'!D9+'МамайМ-Ц,ПРЕДШ'!D9+МакинкаПРЕДШ!D9+'ТасшалкарМ-Ц,ПРЕДШ'!D9+'Сауле М-Ц,ПРЕДШ'!D9+'СШ №1 М-Ц,ПРЕДШ'!D9+СШ№2ПРЕДШ!D9+АктасПРЕДШ!D9 -> 0 | E9: =Куншуак!E9+Балдырган!E9+'Ангал. батыр М-Ц, ПРЕДШ. '!E9+'Алга М-Ц, ПРЕДШ.'!E9+'Бирсуат М-Ц,ПРЕДШ'!E9+'Буланда ПРЕДШ.'!E9+'Баймурза М-Ц.ПРЕДШК.'!E9+'Андыкожа М-Ц, ПРЕДШ'!E9+'Джукей ПРЕДШ'!E9+'Енбек М-Ц ПРЕДШ'!E9+'Заозерка М-Ц, ПРЕДШК'!E9+'Зауралов. М-Ц,ПРЕДШ'!E9+'Красноф ПРЕДШ'!E9+'УльгиМ-Ц,ПРЕДШ'!E9+КараталПРЕДШ!E9+КызылумПРЕДШ!E9+'КенащиМ-Ц,ПРЕДШ'!E9+'КудукМ-Ц, ПРЕДШ'!E9+'Когам М-Ц,ПРЕДШ'!E9+'МакпалМ-Ц,ПРЕДШ'!E9+'МамайМ-Ц,ПРЕДШ'!E9+МакинкаПРЕДШ!E9+'ТасшалкарМ-Ц,ПРЕДШ'!E9+'Сауле М-Ц,ПРЕДШ'!E9+'СШ №1 М-Ц,ПРЕДШ'!E9+СШ№2ПРЕДШ!E9+АктасПРЕДШ!E9 -> 0 | F9: =Куншуак!F9+Балдырган!F9+'Ангал. батыр М-Ц, ПРЕДШ. '!F9+'Алга М-Ц, ПРЕДШ.'!F9+'Бирсуат М-Ц,ПРЕДШ'!F9+'Буланда ПРЕДШ.'!F9+'Баймурза М-Ц.ПРЕДШК.'!F9+'Андыкожа М-Ц, ПРЕДШ'!F9+'Джукей ПРЕДШ'!F9+'Енбек М-Ц ПРЕДШ'!F9+'Заозерка М-Ц, ПРЕДШК'!F9+'Зауралов. М-Ц,ПРЕДШ'!F9+'Красноф ПРЕДШ'!F9+'УльгиМ-Ц,ПРЕДШ'!F9+КараталПРЕДШ!F9+КызылумПРЕДШ!F9+'КенащиМ-Ц,ПРЕДШ'!F9+'КудукМ-Ц, ПРЕДШ'!F9+'Когам М-Ц,ПРЕДШ'!F9+'МакпалМ-Ц,ПРЕДШ'!F9+'МамайМ-Ц,ПРЕДШ'!F9+МакинкаПРЕДШ!F9+'ТасшалкарМ-Ц,ПРЕДШ'!F9+'Сауле М-Ц,ПРЕДШ'!F9+'СШ №1 М-Ц,ПРЕДШ'!F9+СШ№2ПРЕДШ!F9+АктасПРЕДШ!F9 -> 0 | G9: =Куншуак!G9+Балдырган!G9+'Ангал. батыр М-Ц, ПРЕДШ. '!G9+'Алга М-Ц, ПРЕДШ.'!G9+'Бирсуат М-Ц,ПРЕДШ'!G9+'Буланда ПРЕДШ.'!G9+'Баймурза М-Ц.ПРЕДШК.'!G9+'Андыкожа М-Ц, ПРЕДШ'!G9+'Джукей ПРЕДШ'!G9+'Енбек М-Ц ПРЕДШ'!G9+'Заозерка М-Ц, ПРЕДШК'!G9+'Зауралов. М-Ц,ПРЕДШ'!G9+'Красноф ПРЕДШ'!G9+'УльгиМ-Ц,ПРЕДШ'!G9+КараталПРЕДШ!G9+КызылумПРЕДШ!G9+'КенащиМ-Ц,ПРЕДШ'!G9+'КудукМ-Ц, ПРЕДШ'!G9+'Когам М-Ц,ПРЕДШ'!G9+'МакпалМ-Ц,ПРЕДШ'!G9+'МамайМ-Ц,ПРЕДШ'!G9+МакинкаПРЕДШ!G9+'ТасшалкарМ-Ц,ПРЕДШ'!G9+'Сауле М-Ц,ПРЕДШ'!G9+'СШ №1 М-Ц,ПРЕДШ'!G9+СШ№2ПРЕДШ!G9+АктасПРЕДШ!G9 -> 0 | H9: =Куншуак!H9+Балдырган!H9+'Ангал. батыр М-Ц, ПРЕДШ. '!H9+'Алга М-Ц, ПРЕДШ.'!H9+'Бирсуат М-Ц,ПРЕДШ'!H9+'Буланда ПРЕДШ.'!H9+'Баймурза М-Ц.ПРЕДШК.'!H9+'Андыкожа М-Ц, ПРЕДШ'!H9+'Джукей ПРЕДШ'!H9+'Енбек М-Ц ПРЕДШ'!H9+'Заозерка М-Ц, ПРЕДШК'!H9+'Зауралов. М-Ц,ПРЕДШ'!H9+'Красноф ПРЕДШ'!H9+'УльгиМ-Ц,ПРЕДШ'!H9+КараталПРЕДШ!H9+КызылумПРЕДШ!H9+'КенащиМ-Ц,ПРЕДШ'!H9+'КудукМ-Ц, ПРЕДШ'!H9+'Когам М-Ц,ПРЕДШ'!H9+'МакпалМ-Ц,ПРЕДШ'!H9+'МамайМ-Ц,ПРЕДШ'!H9+МакинкаПРЕДШ!H9+'ТасшалкарМ-Ц,ПРЕДШ'!H9+'Сауле М-Ц,ПРЕДШ'!H9+'СШ №1 М-Ц,ПРЕДШ'!H9+СШ№2ПРЕДШ!H9+АктасПРЕДШ!H9 -> 0 | I9: =Куншуак!I9+Балдырган!I9+'Ангал. батыр М-Ц, ПРЕДШ. '!I9+'Алга М-Ц, ПРЕДШ.'!I9+'Бирсуат М-Ц,ПРЕДШ'!I9+'Буланда ПРЕДШ.'!I9+'Баймурза М-Ц.ПРЕДШК.'!I9+'Андыкожа М-Ц, ПРЕДШ'!I9+'Джукей ПРЕДШ'!I9+'Енбек М-Ц ПРЕДШ'!I9+'Заозерка М-Ц, ПРЕДШК'!I9+'Зауралов. М-Ц,ПРЕДШ'!I9+'Красноф ПРЕДШ'!I9+'УльгиМ-Ц,ПРЕДШ'!I9+КараталПРЕДШ!I9+КызылумПРЕДШ!I9+'КенащиМ-Ц,ПРЕДШ'!I9+'КудукМ-Ц, ПРЕДШ'!I9+'Когам М-Ц,ПРЕДШ'!I9+'МакпалМ-Ц,ПРЕДШ'!I9+'МамайМ-Ц,ПРЕДШ'!I9+МакинкаПРЕДШ!I9+'ТасшалкарМ-Ц,ПРЕДШ'!I9+'Сауле М-Ц,ПРЕДШ'!I9+'СШ №1 М-Ц,ПРЕДШ'!I9+СШ№2ПРЕДШ!I9+АктасПРЕДШ!I9 -> 0 | ... Q9: =Куншуак!Q9+Балдырган!Q9+'Ангал. батыр М-Ц, ПРЕДШ. '!Q9+'Алга М-Ц, ПРЕДШ.'!Q9+'Бирсуат М-Ц,ПРЕДШ'!Q9+'Буланда ПРЕДШ.'!Q9+'Баймурза М-Ц.ПРЕДШК.'!Q9+'Андыкожа М-Ц, ПРЕДШ'!Q9+'Джукей ПРЕДШ'!Q9+'Енбек М-Ц ПРЕДШ'!Q9+'Заозерка М-Ц, ПРЕДШК'!Q9+'Зауралов. М-Ц,ПРЕДШ'!Q9+'Красноф ПРЕДШ'!Q9+'УльгиМ-Ц,ПРЕДШ'!Q9+КараталПРЕДШ!Q9+КызылумПРЕДШ!Q9+'КенащиМ-Ц,ПРЕДШ'!Q9+'КудукМ-Ц, ПРЕДШ'!Q9+'Когам М-Ц,ПРЕДШ'!Q9+'МакпалМ-Ц,ПРЕДШ'!Q9+'МамайМ-Ц,ПРЕДШ'!Q9+МакинкаПРЕДШ!Q9+'ТасшалкарМ-Ц,ПРЕДШ'!Q9+'Сауле М-Ц,ПРЕДШ'!Q9+'СШ №1 М-Ц,ПРЕДШ'!Q9+СШ№2ПРЕДШ!Q9+АктасПРЕДШ!Q9 -> 0
A10: Средняя группа | B10: =Куншуак!B10+Балдырган!B10+'Ангал. батыр М-Ц, ПРЕДШ. '!B10+'Алга М-Ц, ПРЕДШ.'!B10+'Бирсуат М-Ц,ПРЕДШ'!B10+'Буланда ПРЕДШ.'!B10+'Баймурза М-Ц.ПРЕДШК.'!B10+'Андыкожа М-Ц, ПРЕДШ'!B10+'Джукей ПРЕДШ'!B10+'Енбек М-Ц ПРЕДШ'!B10+'Заозерка М-Ц, ПРЕДШК'!B10+'Зауралов. М-Ц,ПРЕДШ'!B10+'Красноф ПРЕДШ'!B10+'УльгиМ-Ц,ПРЕДШ'!B10+КараталПРЕДШ!B10+КызылумПРЕДШ!B10+'КенащиМ-Ц,ПРЕДШ'!B10+'КудукМ-Ц, ПРЕДШ'!B10+'Когам М-Ц,ПРЕДШ'!B10+'МакпалМ-Ц,ПРЕДШ'!B10+'МамайМ-Ц,ПРЕДШ'!B10+МакинкаПРЕДШ!B10+'ТасшалкарМ-Ц,ПРЕДШ'!B10+'Сауле М-Ц,ПРЕДШ'!B10+'СШ №1 М-Ц,ПРЕДШ'!B10+СШ№2ПРЕДШ!B10+АктасПРЕДШ!B10 -> 0 | C10: =Куншуак!C10+Балдырган!C10+'Ангал. батыр М-Ц, ПРЕДШ. '!C10+'Алга М-Ц, ПРЕДШ.'!C10+'Бирсуат М-Ц,ПРЕДШ'!C10+'Буланда ПРЕДШ.'!C10+'Баймурза М-Ц.ПРЕДШК.'!C10+'Андыкожа М-Ц, ПРЕДШ'!C10+'Джукей ПРЕДШ'!C10+'Енбек М-Ц ПРЕДШ'!C10+'Заозерка М-Ц, ПРЕДШК'!C10+'Зауралов. М-Ц,ПРЕДШ'!C10+'Красноф ПРЕДШ'!C10+'УльгиМ-Ц,ПРЕДШ'!C10+КараталПРЕДШ!C10+КызылумПРЕДШ!C10+'КенащиМ-Ц,ПРЕДШ'!C10+'КудукМ-Ц, ПРЕДШ'!C10+'Когам М-Ц,ПРЕДШ'!C10+'МакпалМ-Ц,ПРЕДШ'!C10+'МамайМ-Ц,ПРЕДШ'!C10+МакинкаПРЕДШ!C10+'ТасшалкарМ-Ц,ПРЕДШ'!C10+'Сауле М-Ц,ПРЕДШ'!C10+'СШ №1 М-Ц,ПРЕДШ'!C10+СШ№2ПРЕДШ!C10+АктасПРЕДШ!C10 -> 0 | D10: =Куншуак!D10+Балдырган!D10+'Ангал. батыр М-Ц, ПРЕДШ. '!D10+'Алга М-Ц, ПРЕДШ.'!D10+'Бирсуат М-Ц,ПРЕДШ'!D10+'Буланда ПРЕДШ.'!D10+'Баймурза М-Ц.ПРЕДШК.'!D10+'Андыкожа М-Ц, ПРЕДШ'!D10+'Джукей ПРЕДШ'!D10+'Енбек М-Ц ПРЕДШ'!D10+'Заозерка М-Ц, ПРЕДШК'!D10+'Зауралов. М-Ц,ПРЕДШ'!D10+'Красноф ПРЕДШ'!D10+'УльгиМ-Ц,ПРЕДШ'!D10+КараталПРЕДШ!D10+КызылумПРЕДШ!D10+'КенащиМ-Ц,ПРЕДШ'!D10+'КудукМ-Ц, ПРЕДШ'!D10+'Когам М-Ц,ПРЕДШ'!D10+'МакпалМ-Ц,ПРЕДШ'!D10+'МамайМ-Ц,ПРЕДШ'!D10+МакинкаПРЕДШ!D10+'ТасшалкарМ-Ц,ПРЕДШ'!D10+'Сауле М-Ц,ПРЕДШ'!D10+'СШ №1 М-Ц,ПРЕДШ'!D10+СШ№2ПРЕДШ!D10+АктасПРЕДШ!D10 -> 0 | E10: =Куншуак!E10+Балдырган!E10+'Ангал. батыр М-Ц, ПРЕДШ. '!E10+'Алга М-Ц, ПРЕДШ.'!E10+'Бирсуат М-Ц,ПРЕДШ'!E10+'Буланда ПРЕДШ.'!E10+'Баймурза М-Ц.ПРЕДШК.'!E10+'Андыкожа М-Ц, ПРЕДШ'!E10+'Джукей ПРЕДШ'!E10+'Енбек М-Ц ПРЕДШ'!E10+'Заозерка М-Ц, ПРЕДШК'!E10+'Зауралов. М-Ц,ПРЕДШ'!E10+'Красноф ПРЕДШ'!E10+'УльгиМ-Ц,ПРЕДШ'!E10+КараталПРЕДШ!E10+КызылумПРЕДШ!E10+'КенащиМ-Ц,ПРЕДШ'!E10+'КудукМ-Ц, ПРЕДШ'!E10+'Когам М-Ц,ПРЕДШ'!E10+'МакпалМ-Ц,ПРЕДШ'!E10+'МамайМ-Ц,ПРЕДШ'!E10+МакинкаПРЕДШ!E10+'ТасшалкарМ-Ц,ПРЕДШ'!E10+'Сауле М-Ц,ПРЕДШ'!E10+'СШ №1 М-Ц,ПРЕДШ'!E10+СШ№2ПРЕДШ!E10+АктасПРЕДШ!E10 -> 0 | F10: =Куншуак!F10+Балдырган!F10+'Ангал. батыр М-Ц, ПРЕДШ. '!F10+'Алга М-Ц, ПРЕДШ.'!F10+'Бирсуат М-Ц,ПРЕДШ'!F10+'Буланда ПРЕДШ.'!F10+'Баймурза М-Ц.ПРЕДШК.'!F10+'Андыкожа М-Ц, ПРЕДШ'!F10+'Джукей ПРЕДШ'!F10+'Енбек М-Ц ПРЕДШ'!F10+'Заозерка М-Ц, ПРЕДШК'!F10+'Зауралов. М-Ц,ПРЕДШ'!F10+'Красноф ПРЕДШ'!F10+'УльгиМ-Ц,ПРЕДШ'!F10+КараталПРЕДШ!F10+КызылумПРЕДШ!F10+'КенащиМ-Ц,ПРЕДШ'!F10+'КудукМ-Ц, ПРЕДШ'!F10+'Когам М-Ц,ПРЕДШ'!F10+'МакпалМ-Ц,ПРЕДШ'!F10+'МамайМ-Ц,ПРЕДШ'!F10+МакинкаПРЕДШ!F10+'ТасшалкарМ-Ц,ПРЕДШ'!F10+'Сауле М-Ц,ПРЕДШ'!F10+'СШ №1 М-Ц,ПРЕДШ'!F10+СШ№2ПРЕДШ!F10+АктасПРЕДШ!F10 -> 0 | G10: =Куншуак!G10+Балдырган!G10+'Ангал. батыр М-Ц, ПРЕДШ. '!G10+'Алга М-Ц, ПРЕДШ.'!G10+'Бирсуат М-Ц,ПРЕДШ'!G10+'Буланда ПРЕДШ.'!G10+'Баймурза М-Ц.ПРЕДШК.'!G10+'Андыкожа М-Ц, ПРЕДШ'!G10+'Джукей ПРЕДШ'!G10+'Енбек М-Ц ПРЕДШ'!G10+'Заозерка М-Ц, ПРЕДШК'!G10+'Зауралов. М-Ц,ПРЕДШ'!G10+'Красноф ПРЕДШ'!G10+'УльгиМ-Ц,ПРЕДШ'!G10+КараталПРЕДШ!G10+КызылумПРЕДШ!G10+'КенащиМ-Ц,ПРЕДШ'!G10+'КудукМ-Ц, ПРЕДШ'!G10+'Когам М-Ц,ПРЕДШ'!G10+'МакпалМ-Ц,ПРЕДШ'!G10+'МамайМ-Ц,ПРЕДШ'!G10+МакинкаПРЕДШ!G10+'ТасшалкарМ-Ц,ПРЕДШ'!G10+'Сауле М-Ц,ПРЕДШ'!G10+'СШ №1 М-Ц,ПРЕДШ'!G10+СШ№2ПРЕДШ!G10+АктасПРЕДШ!G10 -> 0 | H10: =Куншуак!H10+Балдырган!H10+'Ангал. батыр М-Ц, ПРЕДШ. '!H10+'Алга М-Ц, ПРЕДШ.'!H10+'Бирсуат М-Ц,ПРЕДШ'!H10+'Буланда ПРЕДШ.'!H10+'Баймурза М-Ц.ПРЕДШК.'!H10+'Андыкожа М-Ц, ПРЕДШ'!H10+'Джукей ПРЕДШ'!H10+'Енбек М-Ц ПРЕДШ'!H10+'Заозерка М-Ц, ПРЕДШК'!H10+'Зауралов. М-Ц,ПРЕДШ'!H10+'Красноф ПРЕДШ'!H10+'УльгиМ-Ц,ПРЕДШ'!H10+КараталПРЕДШ!H10+КызылумПРЕДШ!H10+'КенащиМ-Ц,ПРЕДШ'!H10+'КудукМ-Ц, ПРЕДШ'!H10+'Когам М-Ц,ПРЕДШ'!H10+'МакпалМ-Ц,ПРЕДШ'!H10+'МамайМ-Ц,ПРЕДШ'!H10+МакинкаПРЕДШ!H10+'ТасшалкарМ-Ц,ПРЕДШ'!H10+'Сауле М-Ц,ПРЕДШ'!H10+'СШ №1 М-Ц,ПРЕДШ'!H10+СШ№2ПРЕДШ!H10+АктасПРЕДШ!H10 -> 0 | I10: =Куншуак!I10+Балдырган!I10+'Ангал. батыр М-Ц, ПРЕДШ. '!I10+'Алга М-Ц, ПРЕДШ.'!I10+'Бирсуат М-Ц,ПРЕДШ'!I10+'Буланда ПРЕДШ.'!I10+'Баймурза М-Ц.ПРЕДШК.'!I10+'Андыкожа М-Ц, ПРЕДШ'!I10+'Джукей ПРЕДШ'!I10+'Енбек М-Ц ПРЕДШ'!I10+'Заозерка М-Ц, ПРЕДШК'!I10+'Зауралов. М-Ц,ПРЕДШ'!I10+'Красноф ПРЕДШ'!I10+'УльгиМ-Ц,ПРЕДШ'!I10+КараталПРЕДШ!I10+КызылумПРЕДШ!I10+'КенащиМ-Ц,ПРЕДШ'!I10+'КудукМ-Ц, ПРЕДШ'!I10+'Когам М-Ц,ПРЕДШ'!I10+'МакпалМ-Ц,ПРЕДШ'!I10+'МамайМ-Ц,ПРЕДШ'!I10+МакинкаПРЕДШ!I10+'ТасшалкарМ-Ц,ПРЕДШ'!I10+'Сауле М-Ц,ПРЕДШ'!I10+'СШ №1 М-Ц,ПРЕДШ'!I10+СШ№2ПРЕДШ!I10+АктасПРЕДШ!I10 -> 0 | ... Q10: =Куншуак!Q10+Балдырган!Q10+'Ангал. батыр М-Ц, ПРЕДШ. '!Q10+'Алга М-Ц, ПРЕДШ.'!Q10+'Бирсуат М-Ц,ПРЕДШ'!Q10+'Буланда ПРЕДШ.'!Q10+'Баймурза М-Ц.ПРЕДШК.'!Q10+'Андыкожа М-Ц, ПРЕДШ'!Q10+'Джукей ПРЕДШ'!Q10+'Енбек М-Ц ПРЕДШ'!Q10+'Заозерка М-Ц, ПРЕДШК'!Q10+'Зауралов. М-Ц,ПРЕДШ'!Q10+'Красноф ПРЕДШ'!Q10+'УльгиМ-Ц,ПРЕДШ'!Q10+КараталПРЕДШ!Q10+КызылумПРЕДШ!Q10+'КенащиМ-Ц,ПРЕДШ'!Q10+'КудукМ-Ц, ПРЕДШ'!Q10+'Когам М-Ц,ПРЕДШ'!Q10+'МакпалМ-Ц,ПРЕДШ'!Q10+'МамайМ-Ц,ПРЕДШ'!Q10+МакинкаПРЕДШ!Q10+'ТасшалкарМ-Ц,ПРЕДШ'!Q10+'Сауле М-Ц,ПРЕДШ'!Q10+'СШ №1 М-Ц,ПРЕДШ'!Q10+СШ№2ПРЕДШ!Q10+АктасПРЕДШ!Q10 -> 0
A11: Старшая группа | B11: =Куншуак!B11+Балдырган!B11+'Ангал. батыр М-Ц, ПРЕДШ. '!B11+'Алга М-Ц, ПРЕДШ.'!B11+'Бирсуат М-Ц,ПРЕДШ'!B11+'Буланда ПРЕДШ.'!B11+'Баймурза М-Ц.ПРЕДШК.'!B11+'Андыкожа М-Ц, ПРЕДШ'!B11+'Джукей ПРЕДШ'!B11+'Енбек М-Ц ПРЕДШ'!B11+'Заозерка М-Ц, ПРЕДШК'!B11+'Зауралов. М-Ц,ПРЕДШ'!B11+'Красноф ПРЕДШ'!B11+'УльгиМ-Ц,ПРЕДШ'!B11+КараталПРЕДШ!B11+КызылумПРЕДШ!B11+'КенащиМ-Ц,ПРЕДШ'!B11+'КудукМ-Ц, ПРЕДШ'!B11+'Когам М-Ц,ПРЕДШ'!B11+'МакпалМ-Ц,ПРЕДШ'!B11+'МамайМ-Ц,ПРЕДШ'!B11+МакинкаПРЕДШ!B11+'ТасшалкарМ-Ц,ПРЕДШ'!B11+'Сауле М-Ц,ПРЕДШ'!B11+'СШ №1 М-Ц,ПРЕДШ'!B11+СШ№2ПРЕДШ!B11+АктасПРЕДШ!B11 -> 0 | C11: =Куншуак!C11+Балдырган!C11+'Ангал. батыр М-Ц, ПРЕДШ. '!C11+'Алга М-Ц, ПРЕДШ.'!C11+'Бирсуат М-Ц,ПРЕДШ'!C11+'Буланда ПРЕДШ.'!C11+'Баймурза М-Ц.ПРЕДШК.'!C11+'Андыкожа М-Ц, ПРЕДШ'!C11+'Джукей ПРЕДШ'!C11+'Енбек М-Ц ПРЕДШ'!C11+'Заозерка М-Ц, ПРЕДШК'!C11+'Зауралов. М-Ц,ПРЕДШ'!C11+'Красноф ПРЕДШ'!C11+'УльгиМ-Ц,ПРЕДШ'!C11+КараталПРЕДШ!C11+КызылумПРЕДШ!C11+'КенащиМ-Ц,ПРЕДШ'!C11+'КудукМ-Ц, ПРЕДШ'!C11+'Когам М-Ц,ПРЕДШ'!C11+'МакпалМ-Ц,ПРЕДШ'!C11+'МамайМ-Ц,ПРЕДШ'!C11+МакинкаПРЕДШ!C11+'ТасшалкарМ-Ц,ПРЕДШ'!C11+'Сауле М-Ц,ПРЕДШ'!C11+'СШ №1 М-Ц,ПРЕДШ'!C11+СШ№2ПРЕДШ!C11+АктасПРЕДШ!C11 -> 0 | D11: =Куншуак!D11+Балдырган!D11+'Ангал. батыр М-Ц, ПРЕДШ. '!D11+'Алга М-Ц, ПРЕДШ.'!D11+'Бирсуат М-Ц,ПРЕДШ'!D11+'Буланда ПРЕДШ.'!D11+'Баймурза М-Ц.ПРЕДШК.'!D11+'Андыкожа М-Ц, ПРЕДШ'!D11+'Джукей ПРЕДШ'!D11+'Енбек М-Ц ПРЕДШ'!D11+'Заозерка М-Ц, ПРЕДШК'!D11+'Зауралов. М-Ц,ПРЕДШ'!D11+'Красноф ПРЕДШ'!D11+'УльгиМ-Ц,ПРЕДШ'!D11+КараталПРЕДШ!D11+КызылумПРЕДШ!D11+'КенащиМ-Ц,ПРЕДШ'!D11+'КудукМ-Ц, ПРЕДШ'!D11+'Когам М-Ц,ПРЕДШ'!D11+'МакпалМ-Ц,ПРЕДШ'!D11+'МамайМ-Ц,ПРЕДШ'!D11+МакинкаПРЕДШ!D11+'ТасшалкарМ-Ц,ПРЕДШ'!D11+'Сауле М-Ц,ПРЕДШ'!D11+'СШ №1 М-Ц,ПРЕДШ'!D11+СШ№2ПРЕДШ!D11+АктасПРЕДШ!D11 -> 0 | E11: =Куншуак!E11+Балдырган!E11+'Ангал. батыр М-Ц, ПРЕДШ. '!E11+'Алга М-Ц, ПРЕДШ.'!E11+'Бирсуат М-Ц,ПРЕДШ'!E11+'Буланда ПРЕДШ.'!E11+'Баймурза М-Ц.ПРЕДШК.'!E11+'Андыкожа М-Ц, ПРЕДШ'!E11+'Джукей ПРЕДШ'!E11+'Енбек М-Ц ПРЕДШ'!E11+'Заозерка М-Ц, ПРЕДШК'!E11+'Зауралов. М-Ц,ПРЕДШ'!E11+'Красноф ПРЕДШ'!E11+'УльгиМ-Ц,ПРЕДШ'!E11+КараталПРЕДШ!E11+КызылумПРЕДШ!E11+'КенащиМ-Ц,ПРЕДШ'!E11+'КудукМ-Ц, ПРЕДШ'!E11+'Когам М-Ц,ПРЕДШ'!E11+'МакпалМ-Ц,ПРЕДШ'!E11+'МамайМ-Ц,ПРЕДШ'!E11+МакинкаПРЕДШ!E11+'ТасшалкарМ-Ц,ПРЕДШ'!E11+'Сауле М-Ц,ПРЕДШ'!E11+'СШ №1 М-Ц,ПРЕДШ'!E11+СШ№2ПРЕДШ!E11+АктасПРЕДШ!E11 -> 0 | F11: =Куншуак!F11+Балдырган!F11+'Ангал. батыр М-Ц, ПРЕДШ. '!F11+'Алга М-Ц, ПРЕДШ.'!F11+'Бирсуат М-Ц,ПРЕДШ'!F11+'Буланда ПРЕДШ.'!F11+'Баймурза М-Ц.ПРЕДШК.'!F11+'Андыкожа М-Ц, ПРЕДШ'!F11+'Джукей ПРЕДШ'!F11+'Енбек М-Ц ПРЕДШ'!F11+'Заозерка М-Ц, ПРЕДШК'!F11+'Зауралов. М-Ц,ПРЕДШ'!F11+'Красноф ПРЕДШ'!F11+'УльгиМ-Ц,ПРЕДШ'!F11+КараталПРЕДШ!F11+КызылумПРЕДШ!F11+'КенащиМ-Ц,ПРЕДШ'!F11+'КудукМ-Ц, ПРЕДШ'!F11+'Когам М-Ц,ПРЕДШ'!F11+'МакпалМ-Ц,ПРЕДШ'!F11+'МамайМ-Ц,ПРЕДШ'!F11+МакинкаПРЕДШ!F11+'ТасшалкарМ-Ц,ПРЕДШ'!F11+'Сауле М-Ц,ПРЕДШ'!F11+'СШ №1 М-Ц,ПРЕДШ'!F11+СШ№2ПРЕДШ!F11+АктасПРЕДШ!F11 -> 0 | G11: =Куншуак!G11+Балдырган!G11+'Ангал. батыр М-Ц, ПРЕДШ. '!G11+'Алга М-Ц, ПРЕДШ.'!G11+'Бирсуат М-Ц,ПРЕДШ'!G11+'Буланда ПРЕДШ.'!G11+'Баймурза М-Ц.ПРЕДШК.'!G11+'Андыкожа М-Ц, ПРЕДШ'!G11+'Джукей ПРЕДШ'!G11+'Енбек М-Ц ПРЕДШ'!G11+'Заозерка М-Ц, ПРЕДШК'!G11+'Зауралов. М-Ц,ПРЕДШ'!G11+'Красноф ПРЕДШ'!G11+'УльгиМ-Ц,ПРЕДШ'!G11+КараталПРЕДШ!G11+КызылумПРЕДШ!G11+'КенащиМ-Ц,ПРЕДШ'!G11+'КудукМ-Ц, ПРЕДШ'!G11+'Когам М-Ц,ПРЕДШ'!G11+'МакпалМ-Ц,ПРЕДШ'!G11+'МамайМ-Ц,ПРЕДШ'!G11+МакинкаПРЕДШ!G11+'ТасшалкарМ-Ц,ПРЕДШ'!G11+'Сауле М-Ц,ПРЕДШ'!G11+'СШ №1 М-Ц,ПРЕДШ'!G11+СШ№2ПРЕДШ!G11+АктасПРЕДШ!G11 -> 0 | H11: =Куншуак!H11+Балдырган!H11+'Ангал. батыр М-Ц, ПРЕДШ. '!H11+'Алга М-Ц, ПРЕДШ.'!H11+'Бирсуат М-Ц,ПРЕДШ'!H11+'Буланда ПРЕДШ.'!H11+'Баймурза М-Ц.ПРЕДШК.'!H11+'Андыкожа М-Ц, ПРЕДШ'!H11+'Джукей ПРЕДШ'!H11+'Енбек М-Ц ПРЕДШ'!H11+'Заозерка М-Ц, ПРЕДШК'!H11+'Зауралов. М-Ц,ПРЕДШ'!H11+'Красноф ПРЕДШ'!H11+'УльгиМ-Ц,ПРЕДШ'!H11+КараталПРЕДШ!H11+КызылумПРЕДШ!H11+'КенащиМ-Ц,ПРЕДШ'!H11+'КудукМ-Ц, ПРЕДШ'!H11+'Когам М-Ц,ПРЕДШ'!H11+'МакпалМ-Ц,ПРЕДШ'!H11+'МамайМ-Ц,ПРЕДШ'!H11+МакинкаПРЕДШ!H11+'ТасшалкарМ-Ц,ПРЕДШ'!H11+'Сауле М-Ц,ПРЕДШ'!H11+'СШ №1 М-Ц,ПРЕДШ'!H11+СШ№2ПРЕДШ!H11+АктасПРЕДШ!H11 -> 0 | I11: =Куншуак!I11+Балдырган!I11+'Ангал. батыр М-Ц, ПРЕДШ. '!I11+'Алга М-Ц, ПРЕДШ.'!I11+'Бирсуат М-Ц,ПРЕДШ'!I11+'Буланда ПРЕДШ.'!I11+'Баймурза М-Ц.ПРЕДШК.'!I11+'Андыкожа М-Ц, ПРЕДШ'!I11+'Джукей ПРЕДШ'!I11+'Енбек М-Ц ПРЕДШ'!I11+'Заозерка М-Ц, ПРЕДШК'!I11+'Зауралов. М-Ц,ПРЕДШ'!I11+'Красноф ПРЕДШ'!I11+'УльгиМ-Ц,ПРЕДШ'!I11+КараталПРЕДШ!I11+КызылумПРЕДШ!I11+'КенащиМ-Ц,ПРЕДШ'!I11+'КудукМ-Ц, ПРЕДШ'!I11+'Когам М-Ц,ПРЕДШ'!I11+'МакпалМ-Ц,ПРЕДШ'!I11+'МамайМ-Ц,ПРЕДШ'!I11+МакинкаПРЕДШ!I11+'ТасшалкарМ-Ц,ПРЕДШ'!I11+'Сауле М-Ц,ПРЕДШ'!I11+'СШ №1 М-Ц,ПРЕДШ'!I11+СШ№2ПРЕДШ!I11+АктасПРЕДШ!I11 -> 0 | ... Q11: =Куншуак!Q11+Балдырган!Q11+'Ангал. батыр М-Ц, ПРЕДШ. '!Q11+'Алга М-Ц, ПРЕДШ.'!Q11+'Бирсуат М-Ц,ПРЕДШ'!Q11+'Буланда ПРЕДШ.'!Q11+'Баймурза М-Ц.ПРЕДШК.'!Q11+'Андыкожа М-Ц, ПРЕДШ'!Q11+'Джукей ПРЕДШ'!Q11+'Енбек М-Ц ПРЕДШ'!Q11+'Заозерка М-Ц, ПРЕДШК'!Q11+'Зауралов. М-Ц,ПРЕДШ'!Q11+'Красноф ПРЕДШ'!Q11+'УльгиМ-Ц,ПРЕДШ'!Q11+КараталПРЕДШ!Q11+КызылумПРЕДШ!Q11+'КенащиМ-Ц,ПРЕДШ'!Q11+'КудукМ-Ц, ПРЕДШ'!Q11+'Когам М-Ц,ПРЕДШ'!Q11+'МакпалМ-Ц,ПРЕДШ'!Q11+'МамайМ-Ц,ПРЕДШ'!Q11+МакинкаПРЕДШ!Q11+'ТасшалкарМ-Ц,ПРЕДШ'!Q11+'Сауле М-Ц,ПРЕДШ'!Q11+'СШ №1 М-Ц,ПРЕДШ'!Q11+СШ№2ПРЕДШ!Q11+АктасПРЕДШ!Q11 -> 0
A12: Предшкольная группа, класс | B12: 13 | D12: 11 | E12: 2 | F12: =Куншуак!F12+Балдырган!F12+'Ангал. батыр М-Ц, ПРЕДШ. '!F12+'Алга М-Ц, ПРЕДШ.'!F12+'Бирсуат М-Ц,ПРЕДШ'!F12+'Буланда ПРЕДШ.'!F12+'Баймурза М-Ц.ПРЕДШК.'!F12+'Андыкожа М-Ц, ПРЕДШ'!F12+'Джукей ПРЕДШ'!F12+'Енбек М-Ц ПРЕДШ'!F12+'Заозерка М-Ц, ПРЕДШК'!F12+'Зауралов. М-Ц,ПРЕДШ'!F12+'Красноф ПРЕДШ'!F12+'УльгиМ-Ц,ПРЕДШ'!F12+КараталПРЕДШ!F12+КызылумПРЕДШ!F12+'КенащиМ-Ц,ПРЕДШ'!F12+'КудукМ-Ц, ПРЕДШ'!F12+'Когам М-Ц,ПРЕДШ'!F12+'МакпалМ-Ц,ПРЕДШ'!F12+'МамайМ-Ц,ПРЕДШ'!F12+МакинкаПРЕДШ!F12+'ТасшалкарМ-Ц,ПРЕДШ'!F12+'Сауле М-Ц,ПРЕДШ'!F12+'СШ №1 М-Ц,ПРЕДШ'!F12+СШ№2ПРЕДШ!F12+АктасПРЕДШ!F12 -> 0 | G12: 9 | H12: 4 | I12: =Куншуак!I12+Балдырган!I12+'Ангал. батыр М-Ц, ПРЕДШ. '!I12+'Алга М-Ц, ПРЕДШ.'!I12+'Бирсуат М-Ц,ПРЕДШ'!I12+'Буланда ПРЕДШ.'!I12+'Баймурза М-Ц.ПРЕДШК.'!I12+'Андыкожа М-Ц, ПРЕДШ'!I12+'Джукей ПРЕДШ'!I12+'Енбек М-Ц ПРЕДШ'!I12+'Заозерка М-Ц, ПРЕДШК'!I12+'Зауралов. М-Ц,ПРЕДШ'!I12+'Красноф ПРЕДШ'!I12+'УльгиМ-Ц,ПРЕДШ'!I12+КараталПРЕДШ!I12+КызылумПРЕДШ!I12+'КенащиМ-Ц,ПРЕДШ'!I12+'КудукМ-Ц, ПРЕДШ'!I12+'Когам М-Ц,ПРЕДШ'!I12+'МакпалМ-Ц,ПРЕДШ'!I12+'МамайМ-Ц,ПРЕДШ'!I12+МакинкаПРЕДШ!I12+'ТасшалкарМ-Ц,ПРЕДШ'!I12+'Сауле М-Ц,ПРЕДШ'!I12+'СШ №1 М-Ц,ПРЕДШ'!I12+СШ№2ПРЕДШ!I12+АктасПРЕДШ!I12 -> 0 | J12: 8 | K12: 5 | L12: =Куншуак!L12+Балдырган!L12+'Ангал. батыр М-Ц, ПРЕДШ. '!L12+'Алга М-Ц, ПРЕДШ.'!L12+'Бирсуат М-Ц,ПРЕДШ'!L12+'Буланда ПРЕДШ.'!L12+'Баймурза М-Ц.ПРЕДШК.'!L12+'Андыкожа М-Ц, ПРЕДШ'!L12+'Джукей ПРЕДШ'!L12+'Енбек М-Ц ПРЕДШ'!L12+'Заозерка М-Ц, ПРЕДШК'!L12+'Зауралов. М-Ц,ПРЕДШ'!L12+'Красноф ПРЕДШ'!L12+'УльгиМ-Ц,ПРЕДШ'!L12+КараталПРЕДШ!L12+КызылумПРЕДШ!L12+'КенащиМ-Ц,ПРЕДШ'!L12+'КудукМ-Ц, ПРЕДШ'!L12+'Когам М-Ц,ПРЕДШ'!L12+'МакпалМ-Ц,ПРЕДШ'!L12+'МамайМ-Ц,ПРЕДШ'!L12+МакинкаПРЕДШ!L12+'ТасшалкарМ-Ц,ПРЕДШ'!L12+'Сауле М-Ц,ПРЕДШ'!L12+'СШ №1 М-Ц,ПРЕДШ'!L12+СШ№2ПРЕДШ!L12+АктасПРЕДШ!L12 -> 0 | M12: 10 | N12: 3 | O12: =Куншуак!O12+Балдырган!O12+'Ангал. батыр М-Ц, ПРЕДШ. '!O12+'Алга М-Ц, ПРЕДШ.'!O12+'Бирсуат М-Ц,ПРЕДШ'!O12+'Буланда ПРЕДШ.'!O12+'Баймурза М-Ц.ПРЕДШК.'!O12+'Андыкожа М-Ц, ПРЕДШ'!O12+'Джукей ПРЕДШ'!O12+'Енбек М-Ц ПРЕДШ'!O12+'Заозерка М-Ц, ПРЕДШК'!O12+'Зауралов. М-Ц,ПРЕДШ'!O12+'Красноф ПРЕДШ'!O12+'УльгиМ-Ц,ПРЕДШ'!O12+КараталПРЕДШ!O12+КызылумПРЕДШ!O12+'КенащиМ-Ц,ПРЕДШ'!O12+'КудукМ-Ц, ПРЕДШ'!O12+'Когам М-Ц,ПРЕДШ'!O12+'МакпалМ-Ц,ПРЕДШ'!O12+'МамайМ-Ц,ПРЕДШ'!O12+МакинкаПРЕДШ!O12+'ТасшалкарМ-Ц,ПРЕДШ'!O12+'Сауле М-Ц,ПРЕДШ'!O12+'СШ №1 М-Ц,ПРЕДШ'!O12+СШ№2ПРЕДШ!O12+АктасПРЕДШ!O12 -> 0 | P12: =Куншуак!P12+Балдырган!P12+'Ангал. батыр М-Ц, ПРЕДШ. '!P12+'Алга М-Ц, ПРЕДШ.'!P12+'Бирсуат М-Ц,ПРЕДШ'!P12+'Буланда ПРЕДШ.'!P12+'Баймурза М-Ц.ПРЕДШК.'!P12+'Андыкожа М-Ц, ПРЕДШ'!P12+'Джукей ПРЕДШ'!P12+'Енбек М-Ц ПРЕДШ'!P12+'Заозерка М-Ц, ПРЕДШК'!P12+'Зауралов. М-Ц,ПРЕДШ'!P12+'Красноф ПРЕДШ'!P12+'УльгиМ-Ц,ПРЕДШ'!P12+КараталПРЕДШ!P12+КызылумПРЕДШ!P12+'КенащиМ-Ц,ПРЕДШ'!P12+'КудукМ-Ц, ПРЕДШ'!P12+'Когам М-Ц,ПРЕДШ'!P12+'МакпалМ-Ц,ПРЕДШ'!P12+'МамайМ-Ц,ПРЕДШ'!P12+МакинкаПРЕДШ!P12+'ТасшалкарМ-Ц,ПРЕДШ'!P12+'Сауле М-Ц,ПРЕДШ'!P12+'СШ №1 М-Ц,ПРЕДШ'!P12+СШ№2ПРЕДШ!P12+АктасПРЕДШ!P12 -> 7 | Q12: =Куншуак!Q12+Балдырган!Q12+'Ангал. батыр М-Ц, ПРЕДШ. '!Q12+'Алга М-Ц, ПРЕДШ.'!Q12+'Бирсуат М-Ц,ПРЕДШ'!Q12+'Буланда ПРЕДШ.'!Q12+'Баймурза М-Ц.ПРЕДШК.'!Q12+'Андыкожа М-Ц, ПРЕДШ'!Q12+'Джукей ПРЕДШ'!Q12+'Енбек М-Ц ПРЕДШ'!Q12+'Заозерка М-Ц, ПРЕДШК'!Q12+'Зауралов. М-Ц,ПРЕДШ'!Q12+'Красноф ПРЕДШ'!Q12+'УльгиМ-Ц,ПРЕДШ'!Q12+КараталПРЕДШ!Q12+КызылумПРЕДШ!Q12+'КенащиМ-Ц,ПРЕДШ'!Q12+'КудукМ-Ц, ПРЕДШ'!Q12+'Когам М-Ц,ПРЕДШ'!Q12+'МакпалМ-Ц,ПРЕДШ'!Q12+'МамайМ-Ц,ПРЕДШ'!Q12+МакинкаПРЕДШ!Q12+'ТасшалкарМ-Ц,ПРЕДШ'!Q12+'Сауле М-Ц,ПРЕДШ'!Q12+'СШ №1 М-Ц,ПРЕДШ'!Q12+СШ№2ПРЕДШ!Q12+АктасПРЕДШ!Q12 -> 6
A13: Всего | B13: =SUM(B8:B12) -> 13 | C13: =SUM(C8:C12) -> 0 | D13: =SUM(D8:D12) -> 11 | E13: =SUM(E8:E12) -> 2 | F13: =SUM(F8:F12) -> 0 | G13: =SUM(G8:G12) -> 9 | H13: =SUM(H8:H12) -> 4 | I13: =SUM(I8:I12) -> 0 | ... O13: =SUM(O8:O12) -> 0 | P13: 7 | Q13: 6
A14: % | B14: =B13*100/B13 -> 100 | C14: =C13*100/B13 -> 0 | D14: =D13*10/B13 -> 8.4615385 | E14: =E13*100/B13 -> 15.384615 | F14: =F13*100/B13 -> 0 | G14: =G13*100/B13 -> 69.230769 | H14: =H13*100/B13 -> 30.769231 | I14: =I13*100/B13 -> 0 | J14: =J13*100/B13 -> 61.538462 | K14: =K13*100/B13 -> 38.461538 | L14: =L13*100/B13 -> 0 | M14: =M13*100/B13 -> 76.923077 | N14: =N13*100/B13 -> 23.076923 | O14: =O13*100/B13 -> 0 | P14: =P13*100/B13 -> 53.846154 | Q14: =Q13*100/B13 -> 46.153846

Sheet Куншуак
N1: Приложение 5
A2: Свод методиста районного отдела образования | I2: Наименование района_______________________________________________________
I4: ФИО методиста _________________________________________________
A6: Возрастные группы | B6: Кол-во детей | C6: Физическое развитие | F6: Развитие коммуникативных навыков | I6: Развитие познавательных и интеллектуальных навыков | L6: Развитие творческих навыков, исследовательской деятельности детей | O6: Формирование социально-эмоциональных навыков
C7: из них с высоким уровнем навыков | D7: из них со средним уровнем навыков | E7: из них с низким уровнем навыков | F7: из них с высоким уровнем навыков | G7: из них со средним уровнем навыков | H7: из них с низким уровнем навыков | I7: из них с высоким уровнем навыков | J7: из них со средним уровнем навыков | K7: из них с низким уровнем навыков | L7: из них с высоким уровнем навыков | M7: из них со средним уровнем навыков | N7: из них с низким уровнем навыков | O7: из них с высоким уровнем навыков | P7: из них со средним уровнем навыков | Q7: из них с низким уровнем навыков
A8: Группа раннего возраста
A9: Младшая группа
A10: Средняя группа
A11: Старшая группа
A12: Предшкольная группа, класс
A13: Всего | B13: =SUM(B8:B12) -> 0 | C13: =SUM(C8:C12) -> 0 | D13: =SUM(D8:D12) -> 0 | E13: =SUM(E8:E12) -> 0 | F13: =SUM(F8:F12) -> 0 | G13: =SUM(G8:G12) -> 0 | H13: =SUM(H8:H12) -> 0 | I13: =SUM(I8:I12) -> 0 | ... Q13: =SUM(Q8:Q12) -> 0
A14: % | B14: =B13*100/B13 -> #DIV/0! | C14: =C13*100/B13 -> #DIV/0! | D14: =D13*10/B13 -> #DIV/0! | E14: =E13*100/B13 -> #DIV/0! | F14: =F13*100/B13 -> #DIV/0! | G14: =G13*100/B13 -> #DIV/0! | H14: =H13*100/B13 -> #DIV/0! | I14: =I13*100/B13 -> #DIV/0! | J14: =J13*100/B13 -> #DIV/0! | K14: =K13*100/B13 -> #DIV/0! | L14: =L13*100/B13 -> #DIV/0! | M14: =M13*100/B13 -> #DIV/0! | N14: =N13*100/B13 -> #DIV/0! | O14: =O13*100/B13 -> #DIV/0! | P14: =P13*100/B13 -> #DIV/0! | Q14: =Q13*100/B13 -> #DIV/0!

Sheet Балдырган
N1: Приложение 5
A2: Свод методиста районного отдела образования | I2: Наименование района_______________________________________________________
I4: ФИО методиста _________________________________________________
A6: Возрастные группы | B6: Кол-во детей | C6: Физическое развитие | F6: Развитие коммуникативных навыков | I6: Развитие познавательных и интеллектуальных навыков | L6: Развитие творческих навыков, исследовательской деятельности детей | O6: Формирование социально-эмоциональных навыков
C7: из них с высоким уровнем навыков | D7: из них со средним уровнем навыков | E7: из них с низким уровнем навыков | F7: из них с высоким уровнем навыков | G7: из них со средним уровнем навыков | H7: из них с низким уровнем навыков | I7: из них с высоким уровнем навыков | J7: из них со средним уровнем навыков | K7: из них с низким уровнем навыков | L7: из них с высоким уровнем навыков | M7: из них со средним уровнем навыков | N7: из них с низким уровнем навыков | O7: из них с высоким уровнем навыков | P7: из них со средним уровнем навыков | Q7: из них с низким уровнем навыков
A8: Группа раннего возраста
A9: Младшая группа
A10: Средняя группа
A11: Старшая группа
A12: Предшкольная группа, класс
A13: Всего | B13: =SUM(B8:B12) -> 0 | C13: =SUM(C8:C12) -> 0 | D13: =SUM(D8:D12) -> 0 | E13: =SUM(E8:E12) -> 0 | F13: =SUM(F8:F12) -> 0 | G13: =SUM(G8:G12) -> 0 | H13: =SUM(H8:H12) -> 0 | I13: =SUM(I8:I12) -> 0 | ... Q13: =SUM(Q8:Q12) -> 0
A14: % | B14: =B13*100/B13 -> #DIV/0! | C14: =C13*100/B13 -> #DIV/0! | D14: =D13*10/B13 -> #DIV/0! | E14: =E13*100/B13 -> #DIV/0! | F14: =F13*100/B13 -> #DIV/0! | G14: =G13*100/B13 -> #DIV/0! | H14: =H13*100/B13 -> #DIV/0! | I14: =I13*100/B13 -> #DIV/0! | J14: =J13*100/B13 -> #DIV/0! | K14: =K13*100/B13 -> #DIV/0! | L14: =L13*100/B13 -> #DIV/0! | M14: =M13*100/B13 -> #DIV/0! | N14: =N13*100/B13 -> #DIV/0! | O14: =O13*100/B13 -> #DIV/0! | P14: =P13*100/B13 -> #DIV/0! | Q14: =Q13*100/B13 -> #DIV/0!

Sheet Ангал. батыр М-Ц, ПРЕДШ. 
N1: Приложение 5
A2: Свод методиста районного отдела образования | I2: Наименование района_______________________________________________________
I4: ФИО методиста _________________________________________________
A6: Возрастные группы | B6: Кол-во детей | C6: Физическое развитие | F6: Развитие коммуникативных навыков | I6: Развитие познавательных и интеллектуальных навыков | L6: Развитие творческих навыков, исследовательской деятельности детей | O6: Формирование социально-эмоциональных навыков
C7: из них с высоким уровнем навыков | D7: из них со средним уровнем навыков | E7: из них с низким уровнем навыков | F7: из них с высоким уровнем навыков | G7: из них со средним уровнем навыков | H7: из них с низким уровнем навыков | I7: из них с высоким уровнем навыков | J7: из них со средним уровнем навыков | K7: из них с низким уровнем навыков | L7: из них с высоким уровнем навыков | M7: из них со средним уровнем навыков | N7: из них с низким уровнем навыков | O7: из них с высоким уровнем навыков | P7: из них со средним уровнем навыков | Q7: из них с низким уровнем навыков
A8: Группа раннего возраста
A9: Младшая группа
A10: Средняя группа
A11: Старшая группа
A12: Предшкольная группа, класс
A13: Всего | B13: =SUM(B8:B12) -> 0 | C13: =SUM(C8:C12) -> 0 | D13: =SUM(D8:D12) -> 0 | E13: =SUM(E8:E12) -> 0 | F13: =SUM(F8:F12) -> 0 | G13: =SUM(G8:G12) -> 0 | H13: =SUM(H8:H12) -> 0 | I13: =SUM(I8:I12) -> 0 | ... Q13: =SUM(Q8:Q12) -> 0
A14: % | B14: =B13*100/B13 -> #DIV/0! | C14: =C13*100/B13 -> #DIV/0! | D14: =D13*10/B13 -> #DIV/0! | E14: =E13*100/B13 -> #DIV/0! | F14: =F13*100/B13 -> #DIV/0! | G14: =G13*100/B13 -> #DIV/0! | H14: =H13*100/B13 -> #DIV/0! | I14: =I13*100/B13 -> #DIV/0! | J14: =J13*100/B13 -> #DIV/0! | K14: =K13*100/B13 -> #DIV/0! | L14: =L13*100/B13 -> #DIV/0! | M14: =M13*100/B13 -> #DIV/0! | N14: =N13*100/B13 -> #DIV/0! | O14: =O13*100/B13 -> #DIV/0! | P14: =P13*100/B13 -> #DIV/0! | Q14: =Q13*100/B13 -> #DIV/0!

Sheet Алга М-Ц, ПРЕДШ.
N1: Приложение 5
A2: Свод методиста районного отдела образования | I2: Наименование района_______________________________________________________
I4: ФИО методиста _________________________________________________
A6: Возрастные группы | B6: Кол-во детей | C6: Физическое развитие | F6: Развитие коммуникативных навыков | I6: Развитие познавательных и интеллектуальных навыков | L6: Развитие творческих навыков, исследовательской деятельности детей | O6: Формирование социально-эмоциональных навыков
C7: из них с высоким уровнем навыков | D7: из них со средним уровнем навыков | E7: из них с низким уровнем навыков | F7: из них с высоким уровнем навыков | G7: из них со средним уровнем навыков | H7: из них с низким уровнем навыков | I7: из них с высоким уровнем навыков | J7: из них со средним уровнем навыков | K7: из них с низким уровнем навыков | L7: из них с высоким уровнем навыков | M7: из них со средним уровнем навыков | N7: из них с низким уровнем навыков | O7: из них с высоким уровнем навыков | P7: из них со средним уровнем навыков | Q7: из них с низким уровнем навыков
A8: Группа раннего возраста
A9: Младшая группа
A10: Средняя группа
A11: Старшая группа
A12: Предшкольная группа, класс
A13: Всего | B13: =SUM(B8:B12) -> 0 | C13: =SUM(C8:C12) -> 0 | D13: =SUM(D8:D12) -> 0 | E13: =SUM(E8:E12) -> 0 | F13: =SUM(F8:F12) -> 0 | G13: =SUM(G8:G12) -> 0 | H13: =SUM(H8:H12) -> 0 | I13: =SUM(I8:I12) -> 0 | ... Q13: =SUM(Q8:Q12) -> 0
A14: % | B14: =B13*100/B13 -> #DIV/0! | C14: =C13*100/B13 -> #DIV/0! | D14: =D13*10/B13 -> #DIV/0! | E14: =E13*100/B13 -> #DIV/0! | F14: =F13*100/B13 -> #DIV/0! | G14: =G13*100/B13 -> #DIV/0! | H14: =H13*100/B13 -> #DIV/0! | I14: =I13*100/B13 -> #DIV/0! | J14: =J13*100/B13 -> #DIV/0! | K14: =K13*100/B13 -> #DIV/0! | L14: =L13*100/B13 -> #DIV/0! | M14: =M13*100/B13 -> #DIV/0! | N14: =N13*100/B13 -> #DIV/0! | O14: =O13*100/B13 -> #DIV/0! | P14: =P13*100/B13 -> #DIV/0! | Q14: =Q13*100/B13 -> #DIV/0!

Sheet Бирсуат М-Ц,ПРЕДШ
N1: Приложение 5
A2: Свод методиста районного отдела образования | I2: Наименование района_______________________________________________________
I4: ФИО методиста _________________________________________________
A6: Возрастные группы | B6: Кол-во детей | C6: Физическое развитие | F6: Развитие коммуникативных навыков | I6: Развитие познавательных и интеллектуальных навыков | L6: Развитие творческих навыков, исследовательской деятельности детей | O6: Формирование социально-эмоциональных навыков
C7: из них с высоким уровнем навыков | D7: из них со средним уровнем навыков | E7: из них с низким уровнем навыков | F7: из них с высоким уровнем навыков | G7: из них со средним уровнем навыков | H7: из них с низким уровнем навыков | I7: из них с высоким уровнем навыков | J7: из них со средним уровнем навыков | K7: из них с низким уровнем навыков | L7: из них с высоким уровнем навыков | M7: из них со средним уровнем навыков | N7: из них с низким уровнем навыков | O7: из них с высоким уровнем навыков | P7: из них со средним уровнем навыков | Q7: из них с низким уровнем навыков
A8: Группа раннего возраста
A9: Младшая группа
A10: Средняя группа
A11: Старшая группа
A12: Предшкольная группа, класс
A13: Всего | B13: =SUM(B8:B12) -> 0 | C13: =SUM(C8:C12) -> 0 | D13: =SUM(D8:D12) -> 0 | E13: =SUM(E8:E12) -> 0 | F13: =SUM(F8:F12) -> 0 | G13: =SUM(G8:G12) -> 0 | H13: =SUM(H8:H12) -> 0 | I13: =SUM(I8:I12) -> 0 | ... Q13: =SUM(Q8:Q12) -> 0
A14: % | B14: =B13*100/B13 -> #DIV/0! | C14: =C13*100/B13 -> #DIV/0! | D14: =D13*10/B13 -> #DIV/0! | E14: =E13*100/B13 -> #DIV/0! | F14: =F13*100/B13 -> #DIV/0! | G14: =G13*100/B13 -> #DIV/0! | H14: =H13*100/B13 -> #DIV/0! | I14: =I13*100/B13 -> #DIV/0! | J14: =J13*100/B13 -> #DIV/0! | K14: =K13*100/B13 -> #DIV/0! | L14: =L13*100/B13 -> #DIV/0! | M14: =M13*100/B13 -> #DIV/0! | N14: =N13*100/B13 -> #DIV/0! | O14: =O13*100/B13 -> #DIV/0! | P14: =P13*100/B13 -> #DIV/0! | Q14: =Q13*100/B13 -> #DIV/0!

Sheet Буланда ПРЕДШ.
N1: Приложение 5
A2: Свод методиста районного отдела образования | I2: Наименование района_______________________________________________________
I4: ФИО методиста _________________________________________________
A6: Возрастные группы | B6: Кол-во детей | C6: Физическое развитие | F6: Развитие коммуникативных навыков | I6: Развитие познавательных и интеллектуальных навыков | L6: Развитие творческих навыков, исследовательской деятельности детей | O6: Формирование социально-эмоциональных навыков
C7: из них с высоким уровнем навыков | D7: из них со средним уровнем навыков | E7: из них с низким уровнем навыков | F7: из них с высоким уровнем навыков | G7: из них со средним уровнем навыков | H7: из них с низким уровнем навыков | I7: из них с высоким уровнем навыков | J7: из них со средним уровнем навыков | K7: из них с низким уровнем навыков | L7: из них с высоким уровнем навыков | M7: из них со средним уровнем навыков | N7: из них с низким уровнем навыков | O7: из них с высоким уровнем навыков | P7: из них со средним уровнем навыков | Q7: из них с низким уровнем навыков
A8: Группа раннего возраста
A9: Младшая группа
A10: Средняя группа
A11: Старшая группа
A12: Предшкольная группа, класс
A13: Всего | B13: =SUM(B8:B12) -> 0 | C13: =SUM(C8:C12) -> 0 | D13: =SUM(D8:D12) -> 0 | E13: =SUM(E8:E12) -> 0 | F13: =SUM(F8:F12) -> 0 | G13: =SUM(G8:G12) -> 0 | H13: =SUM(H8:H12) -> 0 | I13: =SUM(I8:I12) -> 0 | ... Q13: =SUM(Q8:Q12) -> 0
A14: % | B14: =B13*100/B13 -> #DIV/0! | C14: =C13*100/B13 -> #DIV/0! | D14: =D13*10/B13 -> #DIV/0! | E14: =E13*100/B13 -> #DIV/0! | F14: =F13*100/B13 -> #DIV/0! | G14: =G13*100/B13 -> #DIV/0! | H14: =H13*100/B13 -> #DIV/0! | I14: =I13*100/B13 -> #DIV/0! | J14: =J13*100/B13 -> #DIV/0! | K14: =K13*100/B13 -> #DIV/0! | L14: =L13*100/B13 -> #DIV/0! | M14: =M13*100/B13 -> #DIV/0! | N14: =N13*100/B13 -> #DIV/0! | O14: =O13*100/B13 -> #DIV/0! | P14: =P13*100/B13 -> #DIV/0! | Q14: =Q13*100/B13 -> #DIV/0!

Sheet Баймурза М-Ц.ПРЕДШК.
N1: Приложение 5
A2: Свод методиста районного отдела образования | I2: Наименование района_______________________________________________________
I4: ФИО методиста _________________________________________________
A6: Возрастные группы | B6: Кол-во детей | C6: Физическое развитие | F6: Развитие коммуникативных навыков | I6: Развитие познавательных и интеллектуальных навыков | L6: Развитие творческих навыков, исследовательской деятельности детей | O6: Формирование социально-эмоциональных навыков
C7: из них с высоким уровнем навыков | D7: из них со средним уровнем навыков | E7: из них с низким уровнем навыков | F7: из них с высоким уровнем навыков | G7: из них со средним уровнем навыков | H7: из них с низким уровнем навыков | I7: из них с высоким уровнем навыков | J7: из них со средним уровнем навыков | K7: из них с низким уровнем навыков | L7: из них с высоким уровнем навыков | M7: из них со средним уровнем навыков | N7: из них с низким уровнем навыков | O7: из них с высоким уровнем навыков | P7: из них со средним уровнем навыков | Q7: из них с низким уровнем навыков
A8: Группа раннего возраста
A9: Младшая группа
A10: Средняя группа
A11: Старшая группа
A12: Предшкольная группа, класс
A13: Всего | B13: =SUM(B8:B12) -> 0 | C13: =SUM(C8:C12) -> 0 | D13: =SUM(D8:D12) -> 0 | E13: =SUM(E8:E12) -> 0 | F13: =SUM(F8:F12) -> 0 | G13: =SUM(G8:G12) -> 0 | H13: =SUM(H8:H12) -> 0 | I13: =SUM(I8:I12) -> 0 | ... Q13: =SUM(Q8:Q12) -> 0
A14: % | B14: =B13*100/B13 -> #DIV/0! | C14: =C13*100/B13 -> #DIV/0! | D14: =D13*10/B13 -> #DIV/0! | E14: =E13*100/B13 -> #DIV/0! | F14: =F13*100/B13 -> #DIV/0! | G14: =G13*100/B13 -> #DIV/0! | H14: =H13*100/B13 -> #DIV/0! | I14: =I13*100/B13 -> #DIV/0! | J14: =J13*100/B13 -> #DIV/0! | K14: =K13*100/B13 -> #DIV/0! | L14: =L13*100/B13 -> #DIV/0! | M14: =M13*100/B13 -> #DIV/0! | N14: =N13*100/B13 -> #DIV/0! | O14: =O13*100/B13 -> #DIV/0! | P14: =P13*100/B13 -> #DIV/0! | Q14: =Q13*100/B13 -> #DIV/0!

Sheet Андыкожа М-Ц, ПРЕДШ
N1: Приложение 5
A2: Свод методиста районного отдела образования | I2: Наименование района_______________________________________________________
I4: ФИО методиста _________________________________________________
A6: Возрастные группы | B6: Кол-во детей | C6: Физическое развитие | F6: Развитие коммуникативных навыков | I6: Развитие познавательных и интеллектуальных навыков | L6: Развитие творческих навыков, исследовательской деятельности детей | O6: Формирование социально-эмоциональных навыков
C7: из них с высоким уровнем навыков | D7: из них со средним уровнем навыков | E7: из них с низким уровнем навыков | F7: из них с высоким уровнем навыков | G7: из них со средним уровнем навыков | H7: из них с низким уровнем навыков | I7: из них с высоким уровнем навыков | J7: из них со средним уровнем навыков | K7: из них с низким уровнем навыков | L7: из них с высоким уровнем навыков | M7: из них со средним уровнем навыков | N7: из них с низким уровнем навыков | O7: из них с высоким уровнем навыков | P7: из них со средним уровнем навыков | Q7: из них с низким уровнем навыков
A8: Группа раннего возраста
A9: Младшая группа
A10: Средняя группа
A11: Старшая группа
A12: Предшкольная группа, класс
A13: Всего | B13: =SUM(B8:B12) -> 0 | C13: =SUM(C8:C12) -> 0 | D13: =SUM(D8:D12) -> 0 | E13: =SUM(E8:E12) -> 0 | F13: =SUM(F8:F12) -> 0 | G13: =SUM(G8:G12) -> 0 | H13: =SUM(H8:H12) -> 0 | I13: =SUM(I8:I12) -> 0 | ... Q13: =SUM(Q8:Q12) -> 0
A14: % | B14: =B13*100/B13 -> #DIV/0! | C14: =C13*100/B13 -> #DIV/0! | D14: =D13*10/B13 -> #DIV/0! | E14: =E13*100/B13 -> #DIV/0! | F14: =F13*100/B13 -> #DIV/0! | G14: =G13*100/B13 -> #DIV/0! | H14: =H13*100/B13 -> #DIV/0! | I14: =I13*100/B13 -> #DIV/0! | J14: =J13*100/B13 -> #DIV/0! | K14: =K13*100/B13 -> #DIV/0! | L14: =L13*100/B13 -> #DIV/0! | M14: =M13*100/B13 -> #DIV/0! | N14: =N13*100/B13 -> #DIV/0! | O14: =O13*100/B13 -> #DIV/0! | P14: =P13*100/B13 -> #DIV/0! | Q14: =Q13*100/B13 -> #DIV/0!

Sheet Джукей ПРЕДШ
N1: Приложение 5
A2: Свод методиста районного отдела образования | I2: Наименование района_______________________________________________________
I4: ФИО методиста _________________________________________________
A6: Возрастные группы | B6: Кол-во детей | C6: Физическое развитие | F6: Развитие коммуникативных навыков | I6: Развитие познавательных и интеллектуальных навыков | L6: Развитие творческих навыков, исследовательской деятельности детей | O6: Формирование социально-эмоциональных навыков
C7: из них с высоким уровнем навыков | D7: из них со средним уровнем навыков | E7: из них с низким уровнем навыков | F7: из них с высоким уровнем навыков | G7: из них со средним уровнем навыков | H7: из них с низким уровнем навыков | I7: из них с высоким уровнем навыков | J7: из них со средним уровнем навыков | K7: из них с низким уровнем навыков | L7: из них с высоким уровнем навыков | M7: из них со средним уровнем навыков | N7: из них с низким уровнем навыков | O7: из них с высоким уровнем навыков | P7: из них со средним уровнем навыков | Q7: из них с низким уровнем навыков
A8: Группа раннего возраста
A9: Младшая группа
A10: Средняя группа
A11: Старшая группа
A12: Предшкольная группа, класс
A13: Всего | B13: =SUM(B8:B12) -> 0 | C13: =SUM(C8:C12) -> 0 | D13: =SUM(D8:D12) -> 0 | E13: =SUM(E8:E12) -> 0 | F13: =SUM(F8:F12) -> 0 | G13: =SUM(G8:G12) -> 0 | H13: =SUM(H8:H12) -> 0 | I13: =SUM(I8:I12) -> 0 | ... Q13: =SUM(Q8:Q12) -> 0
A14: % | B14: =B13*100/B13 -> #DIV/0! | C14: =C13*100/B13 -> #DIV/0! | D14: =D13*10/B13 -> #DIV/0! | E14: =E13*100/B13 -> #DIV/0! | F14: =F13*100/B13 -> #DIV/0! | G14: =G13*100/B13 -> #DIV/0! | H14: =H13*100/B13 -> #DIV/0! | I14: =I13*100/B13 -> #DIV/0! | J14: =J13*100/B13 -> #DIV/0! | K14: =K13*100/B13 -> #DIV/0! | L14: =L13*100/B13 -> #DIV/0! | M14: =M13*100/B13 -> #DIV/0! | N14: =N13*100/B13 -> #DIV/0! | O14: =O13*100/B13 -> #DIV/0! | P14: =P13*100/B13 -> #DIV/0! | Q14: =Q13*100/B13 -> #DIV/0!

Sheet Енбек М-Ц ПРЕДШ
N1: Приложение 5
A2: Свод методиста районного отдела образования | I2: Наименование района_______________________________________________________
I4: ФИО методиста _________________________________________________
A6: Возрастные группы | B6: Кол-во детей | C6: Физическое развитие | F6: Развитие коммуникативных навыков | I6: Развитие познавательных и интеллектуальных навыков | L6: Развитие творческих навыков, исследовательской деятельности детей | O6: Формирование социально-эмоциональных навыков
C7: из них с высоким уровнем навыков | D7: из них со средним уровнем навыков | E7: из них с низким уровнем навыков | F7: из них с высоким уровнем навыков | G7: из них со средним уровнем навыков | H7: из них с низким уровнем навыков | I7: из них с высоким уровнем навыков | J7: из них со средним уровнем навыков | K7: из них с низким уровнем навыков | L7: из них с высоким уровнем навыков | M7: из них со средним уровнем навыков | N7: из них с низким уровнем навыков | O7: из них с высоким уровнем навыков | P7: из них со средним уровнем навыков | Q7: из них с низким уровнем навыков
A8: Группа раннего возраста
A9: Младшая группа
A10: Средняя группа
A11: Старшая группа
A12: Предшкольная группа, класс
A13: Всего | B13: =SUM(B8:B12) -> 0 | C13: =SUM(C8:C12) -> 0 | D13: =SUM(D8:D12) -> 0 | E13: =SUM(E8:E12) -> 0 | F13: =SUM(F8:F12) -> 0 | G13: =SUM(G8:G12) -> 0 | H13: =SUM(H8:H12) -> 0 | I13: =SUM(I8:I12) -> 0 | ... Q13: =SUM(Q8:Q12) -> 0
A14: % | B14: =B13*100/B13 -> #DIV/0! | C14: =C13*100/B13 -> #DIV/0! | D14: =D13*10/B13 -> #DIV/0! | E14: =E13*100/B13 -> #DIV/0! | F14: =F13*100/B13 -> #DIV/0! | G14: =G13*100/B13 -> #DIV/0! | H14: =H13*100/B13 -> #DIV/0! | I14: =I13*100/B13 -> #DIV/0! | J14: =J13*100/B13 -> #DIV/0! | K14: =K13*100/B13 -> #DIV/0! | L14: =L13*100/B13 -> #DIV/0! | M14: =M13*100/B13 -> #DIV/0! | N14: =N13*100/B13 -> #DIV/0! | O14: =O13*100/B13 -> #DIV/0! | P14: =P13*100/B13 -> #DIV/0! | Q14: =Q13*100/B13 -> #DIV/0!

Sheet Заозерка М-Ц, ПРЕДШК
N1: Приложение 5
A2: Свод методиста районного отдела образования | I2: Наименование района_______________________________________________________
I4: ФИО методиста _________________________________________________
A6: Возрастные группы | B6: Кол-во детей | C6: Физическое развитие | F6: Развитие коммуникативных навыков | I6: Развитие познавательных и интеллектуальных навыков | L6: Развитие творческих навыков, исследовательской деятельности детей | O6: Формирование социально-эмоциональных навыков
C7: из них с высоким уровнем навыков | D7: из них со средним уровнем навыков | E7: из них с низким уровнем навыков | F7: из них с высоким уровнем навыков | G7: из них со средним уровнем навыков | H7: из них с низким уровнем навыков | I7: из них с высоким уровнем навыков | J7: из них со средним уровнем навыков | K7: из них с низким уровнем навыков | L7: из них с высоким уровнем навыков | M7: из них со средним уровнем навыков | N7: из них с низким уровнем навыков | O7: из них с высоким уровнем навыков | P7: из них со средним уровнем навыков | Q7: из них с низким уровнем навыков
A8: Группа раннего возраста
A9: Младшая группа
A10: Средняя группа
A11: Старшая группа
A12: Предшкольная группа, класс
A13: Всего | B13: =SUM(B8:B12) -> 0 | C13: =SUM(C8:C12) -> 0 | D13: =SUM(D8:D12) -> 0 | E13: =SUM(E8:E12) -> 0 | F13: =SUM(F8:F12) -> 0 | G13: =SUM(G8:G12) -> 0 | H13: =SUM(H8:H12) -> 0 | I13: =SUM(I8:I12) -> 0 | ... Q13: =SUM(Q8:Q12) -> 0
A14: % | B14: =B13*100/B13 -> #DIV/0! | C14: =C13*100/B13 -> #DIV/0! | D14: =D13*10/B13 -> #DIV/0! | E14: =E13*100/B13 -> #DIV/0! | F14: =F13*100/B13 -> #DIV/0! | G14: =G13*100/B13 -> #DIV/0! | H14: =H13*100/B13 -> #DIV/0! | I14: =I13*100/B13 -> #DIV/0! | J14: =J13*100/B13 -> #DIV/0! | K14: =K13*100/B13 -> #DIV/0! | L14: =L13*100/B13 -> #DIV/0! | M14: =M13*100/B13 -> #DIV/0! | N14: =N13*100/B13 -> #DIV/0! | O14: =O13*100/B13 -> #DIV/0! | P14: =P13*100/B13 -> #DIV/0! | Q14: =Q13*100/B13 -> #DIV/0!

Sheet Зауралов. М-Ц,ПРЕДШ
N1: Приложение 5
A2: Свод методиста районного отдела образования | I2: Наименование района_______________________________________________________
I4: ФИО методиста _________________________________________________
A6: Возрастные группы | B6: Кол-во детей | C6: Физическое развитие | F6: Развитие коммуникативных навыков | I6: Развитие познавательных и интеллектуальных навыков | L6: Развитие творческих навыков, исследовательской деятельности детей | O6: Формирование социально-эмоциональных навыков
C7: из них с высоким уровнем навыков | D7: из них со средним уровнем навыков | E7: из них с низким уровнем навыков | F7: из них с высоким уровнем навыков | G7: из них со средним уровнем навыков | H7: из них с низким уровнем навыков | I7: из них с высоким уровнем навыков | J7: из них со средним уровнем навыков | K7: из них с низким уровнем навыков | L7: из них с высоким уровнем навыков | M7: из них со средним уровнем навыков | N7: из них с низким уровнем навыков | O7: из них с высоким уровнем навыков | P7: из них со средним уровнем навыков | Q7: из них с низким уровнем навыков
A8: Группа раннего возраста
A9: Младшая группа
A10: Средняя группа
A11: Старшая группа
A12: Предшкольная группа, класс
A13: Всего | B13: =SUM(B8:B12) -> 0 | C13: =SUM(C8:C12) -> 0 | D13: =SUM(D8:D12) -> 0 | E13: =SUM(E8:E12) -> 0 | F13: =SUM(F8:F12) -> 0 | G13: =SUM(G8:G12) -> 0 | H13: =SUM(H8:H12) -> 0 | I13: =SUM(I8:I12) -> 0 | ... Q13: =SUM(Q8:Q12) -> 0
A14: % | B14: =B13*100/B13 -> #DIV/0! | C14: =C13*100/B13 -> #DIV/0! | D14: =D13*10/B13 -> #DIV/0! | E14: =E13*100/B13 -> #DIV/0! | F14: =F13*100/B13 -> #DIV/0! | G14: =G13*100/B13 -> #DIV/0! | H14: =H13*100/B13 -> #DIV/0! | I14: =I13*100/B13 -> #DIV/0! | J14: =J13*100/B13 -> #DIV/0! | K14: =K13*100/B13 -> #DIV/0! | L14: =L13*100/B13 -> #DIV/0! | M14: =M13*100/B13 -> #DIV/0! | N14: =N13*100/B13 -> #DIV/0! | O14: =O13*100/B13 -> #DIV/0! | P14: =P13*100/B13 -> #DIV/0! | Q14: =Q13*100/B13 -> #DIV/0!

Sheet Красноф ПРЕДШ
N1: Приложение 5
A2: Свод методиста районного отдела образования | I2: Наименование района_______________________________________________________
I4: ФИО методиста _________________________________________________
A6: Возрастные группы | B6: Кол-во детей | C6: Физическое развитие | F6: Развитие коммуникативных навыков | I6: Развитие познавательных и интеллектуальных навыков | L6: Развитие творческих навыков, исследовательской деятельности детей | O6: Формирование социально-эмоциональных навыков
C7: из них с высоким уровнем навыков | D7: из них со средним уровнем навыков | E7: из них с низким уровнем навыков | F7: из них с высоким уровнем навыков | G7: из них со средним уровнем навыков | H7: из них с низким уровнем навыков | I7: из них с высоким уровнем навыков | J7: из них со средним уровнем навыков | K7: из них с низким уровнем навыков | L7: из них с высоким уровнем навыков | M7: из них со средним уровнем навыков | N7: из них с низким уровнем навыков | O7: из них с высоким уровнем навыков | P7: из них со средним уровнем навыков | Q7: из них с низким уровнем навыков
A8: Группа раннего возраста
A9: Младшая группа
A10: Средняя группа
A11: Старшая группа
A12: Предшкольная группа, класс
A13: Всего | B13: =SUM(B8:B12) -> 0 | C13: =SUM(C8:C12) -> 0 | D13: =SUM(D8:D12) -> 0 | E13: =SUM(E8:E12) -> 0 | F13: =SUM(F8:F12) -> 0 | G13: =SUM(G8:G12) -> 0 | H13: =SUM(H8:H12) -> 0 | I13: =SUM(I8:I12) -> 0 | ... Q13: =SUM(Q8:Q12) -> 0
A14: % | B14: =B13*100/B13 -> #DIV/0! | C14: =C13*100/B13 -> #DIV/0! | D14: =D13*10/B13 -> #DIV/0! | E14: =E13*100/B13 -> #DIV/0! | F14: =F13*100/B13 -> #DIV/0! | G14: =G13*100/B13 -> #DIV/0! | H14: =H13*100/B13 -> #DIV/0! | I14: =I13*100/B13 -> #DIV/0! | J14: =J13*100/B13 -> #DIV/0! | K14: =K13*100/B13 -> #DIV/0! | L14: =L13*100/B13 -> #DIV/0! | M14: =M13*100/B13 -> #DIV/0! | N14: =N13*100/B13 -> #DIV/0! | O14: =O13*100/B13 -> #DIV/0! | P14: =P13*100/B13 -> #DIV/0! | Q14: =Q13*100/B13 -> #DIV/0!

Sheet УльгиМ-Ц,ПРЕДШ
N1: Приложение 5
A2: Свод методиста районного отдела образования | I2: Наименование района_______________________________________________________
I4: ФИО методиста _________________________________________________
A6: Возрастные группы | B6: Кол-во детей | C6: Физическое развитие | F6: Развитие коммуникативных навыков | I6: Развитие познавательных и интеллектуальных навыков | L6: Развитие творческих навыков, исследовательской деятельности детей | O6: Формирование социально-эмоциональных навыков
C7: из них с высоким уровнем навыков | D7: из них со средним уровнем навыков | E7: из них с низким уровнем навыков | F7: из них с высоким уровнем навыков | G7: из них со средним уровнем навыков | H7: из них с низким уровнем навыков | I7: из них с высоким уровнем навыков | J7: из них со средним уровнем навыков | K7: из них с низким уровнем навыков | L7: из них с высоким уровнем навыков | M7: из них со средним уровнем навыков | N7: из них с низким уровнем навыков | O7: из них с высоким уровнем навыков | P7: из них со средним уровнем навыков | Q7: из них с низким уровнем навыков
A8: Группа раннего возраста
A9: Младшая группа
A10: Средняя группа
A11: Старшая группа
A12: Предшкольная группа, класс
A13: Всего | B13: =SUM(B8:B12) -> 0 | C13: =SUM(C8:C12) -> 0 | D13: =SUM(D8:D12) -> 0 | E13: =SUM(E8:E12) -> 0 | F13: =SUM(F8:F12) -> 0 | G13: =SUM(G8:G12) -> 0 | H13: =SUM(H8:H12) -> 0 | I13: =SUM(I8:I12) -> 0 | ... Q13: =SUM(Q8:Q12) -> 0
A14: % | B14: =B13*100/B13 -> #DIV/0! | C14: =C13*100/B13 -> #DIV/0! | D14: =D13*10/B13 -> #DIV/0! | E14: =E13*100/B13 -> #DIV/0! | F14: =F13*100/B13 -> #DIV/0! | G14: =G13*100/B13 -> #DIV/0! | H14: =H13*100/B13 -> #DIV/0! | I14: =I13*100/B13 -> #DIV/0! | J14: =J13*100/B13 -> #DIV/0! | K14: =K13*100/B13 -> #DIV/0! | L14: =L13*100/B13 -> #DIV/0! | M14: =M13*100/B13 -> #DIV/0! | N14: =N13*100/B13 -> #DIV/0! | O14: =O13*100/B13 -> #DIV/0! | P14: =P13*100/B13 -> #DIV/0! | Q14: =Q13*100/B13 -> #DIV/0!

Sheet КараталПРЕДШ
N1: Приложение 5
A2: Свод методиста районного отдела образования | I2: Наименование района_______________________________________________________
I4: ФИО методиста _________________________________________________
A6: Возрастные группы | B6: Кол-во детей | C6: Физическое развитие | F6: Развитие коммуникативных навыков | I6: Развитие познавательных и интеллектуальных навыков | L6: Развитие творческих навыков, исследовательской деятельности детей | O6: Формирование социально-эмоциональных навыков
C7: из них с высоким уровнем навыков | D7: из них со средним уровнем навыков | E7: из них с низким уровнем навыков | F7: из них с высоким уровнем навыков | G7: из них со средним уровнем навыков | H7: из них с низким уровнем навыков | I7: из них с высоким уровнем навыков | J7: из них со средним уровнем навыков | K7: из них с низким уровнем навыков | L7: из них с высоким уровнем навыков | M7: из них со средним уровнем навыков | N7: из них с низким уровнем навыков | O7: из них с высоким уровнем навыков | P7: из них со средним уровнем навыков | Q7: из них с низким уровнем навыков
A8: Группа раннего возраста
A9: Младшая группа
A10: Средняя группа
A11: Старшая группа
A12: Предшкольная группа, класс
A13: Всего | B13: =SUM(B8:B12) -> 0 | C13: =SUM(C8:C12) -> 0 | D13: =SUM(D8:D12) -> 0 | E13: =SUM(E8:E12) -> 0 | F13: =SUM(F8:F12) -> 0 | G13: =SUM(G8:G12) -> 0 | H13: =SUM(H8:H12) -> 0 | I13: =SUM(I8:I12) -> 0 | ... Q13: =SUM(Q8:Q12) -> 0
A14: % | B14: =B13*100/B13 -> #DIV/0! | C14: =C13*100/B13 -> #DIV/0! | D14: =D13*10/B13 -> #DIV/0! | E14: =E13*100/B13 -> #DIV/0! | F14: =F13*100/B13 -> #DIV/0! | G14: =G13*100/B13 -> #DIV/0! | H14: =H13*100/B13 -> #DIV/0! | I14: =I13*100/B13 -> #DIV/0! | J14: =J13*100/B13 -> #DIV/0! | K14: =K13*100/B13 -> #DIV/0! | L14: =L13*100/B13 -> #DIV/0! | M14: =M13*100/B13 -> #DIV/0! | N14: =N13*100/B13 -> #DIV/0! | O14: =O13*100/B13 -> #DIV/0! | P14: =P13*100/B13 -> #DIV/0! | Q14: =Q13*100/B13 -> #DIV/0!

Sheet КызылумПРЕДШ
N1: Приложение 5
A2: Свод методиста районного отдела образования | I2: Наименование района_______________________________________________________
I4: ФИО методиста _________________________________________________
A6: Возрастные группы | B6: Кол-во детей | C6: Физическое развитие | F6: Развитие коммуникативных навыков | I6: Развитие познавательных и интеллектуальных навыков | L6: Развитие творческих навыков, исследовательской деятельности детей | O6: Формирование социально-эмоциональных навыков
C7: из них с высоким уровнем навыков | D7: из них со средним уровнем навыков | E7: из них с низким уровнем навыков | F7: из них с высоким уровнем навыков | G7: из них со средним уровнем навыков | H7: из них с низким уровнем навыков | I7: из них с высоким уровнем навыков | J7: из них со средним уровнем навыков | K7: из них с низким уровнем навыков | L7: из них с высоким уровнем навыков | M7: из них со средним уровнем навыков | N7: из них с низким уровнем навыков | O7: из них с высоким уровнем навыков | P7: из них со средним уровнем навыков | Q7: из них с низким уровнем навыков
A8: Группа раннего возраста
A9: Младшая группа
A10: Средняя группа
A11: Старшая группа
A12: Предшкольная группа, класс
A13: Всего | B13: =SUM(B8:B12) -> 0 | C13: =SUM(C8:C12) -> 0 | D13: =SUM(D8:D12) -> 0 | E13: =SUM(E8:E12) -> 0 | F13: =SUM(F8:F12) -> 0 | G13: =SUM(G8:G12) -> 0 | H13: =SUM(H8:H12) -> 0 | I13: =SUM(I8:I12) -> 0 | ... Q13: =SUM(Q8:Q12) -> 0
A14: % | B14: =B13*100/B13 -> #DIV/0! | C14: =C13*100/B13 -> #DIV/0! | D14: =D13*10/B13 -> #DIV/0! | E14: =E13*100/B13 -> #DIV/0! | F14: =F13*100/B13 -> #DIV/0! | G14: =G13*100/B13 -> #DIV/0! | H14: =H13*100/B13 -> #DIV/0! | I14: =I13*100/B13 -> #DIV/0! | J14: =J13*100/B13 -> #DIV/0! | K14: =K13*100/B13 -> #DIV/0! | L14: =L13*100/B13 -> #DIV/0! | M14: =M13*100/B13 -> #DIV/0! | N14: =N13*100/B13 -> #DIV/0! | O14: =O13*100/B13 -> #DIV/0! | P14: =P13*100/B13 -> #DIV/0! | Q14: =Q13*100/B13 -> #DIV/0!

Sheet КенащиМ-Ц,ПРЕДШ
N1: Приложение 5
A2: Свод методиста районного отдела образования | I2: Наименование района_______________________________________________________
I4: ФИО методиста _________________________________________________
A6: Возрастные группы | B6: Кол-во детей | C6: Физическое развитие | F6: Развитие коммуникативных навыков | I6: Развитие познавательных и интеллектуальных навыков | L6: Развитие творческих навыков, исследовательской деятельности детей | O6: Формирование социально-эмоциональных навыков
C7: из них с высоким уровнем навыков | D7: из них со средним уровнем навыков | E7: из них с низким уровнем навыков | F7: из них с высоким уровнем навыков | G7: из них со средним уровнем навыков | H7: из них с низким уровнем навыков | I7: из них с высоким уровнем навыков | J7: из них со средним уровнем навыков | K7: из них с низким уровнем навыков | L7: из них с высоким уровнем навыков | M7: из них со средним уровнем навыков | N7: из них с низким уровнем навыков | O7: из них с высоким уровнем навыков | P7: из них со средним уровнем навыков | Q7: из них с низким уровнем навыков
A8: Группа раннего возраста
A9: Младшая группа
A10: Средняя группа
A11: Старшая группа
A12: Предшкольная группа, класс
A13: Всего | B13: =SUM(B8:B12) -> 0 | C13: =SUM(C8:C12) -> 0 | D13: =SUM(D8:D12) -> 0 | E13: =SUM(E8:E12) -> 0 | F13: =SUM(F8:F12) -> 0 | G13: =SUM(G8:G12) -> 0 | H13: =SUM(H8:H12) -> 0 | I13: =SUM(I8:I12) -> 0 | ... Q13: =SUM(Q8:Q12) -> 0
A14: % | B14: =B13*100/B13 -> #DIV/0! | C14: =C13*100/B13 -> #DIV/0! | D14: =D13*10/B13 -> #DIV/0! | E14: =E13*100/B13 -> #DIV/0! | F14: =F13*100/B13 -> #DIV/0! | G14: =G13*100/B13 -> #DIV/0! | H14: =H13*100/B13 -> #DIV/0! | I14: =I13*100/B13 -> #DIV/0! | J14: =J13*100/B13 -> #DIV/0! | K14: =K13*100/B13 -> #DIV/0! | L14: =L13*100/B13 -> #DIV/0! | M14: =M13*100/B13 -> #DIV/0! | N14: =N13*100/B13 -> #DIV/0! | O14: =O13*100/B13 -> #DIV/0! | P14: =P13*100/B13 -> #DIV/0! | Q14: =Q13*100/B13 -> #DIV/0!

Sheet КудукМ-Ц, ПРЕДШ
N1: Приложение 5
A2: Свод методиста районного отдела образования | I2: Наименование района_______________________________________________________
I4: ФИО методиста _________________________________________________
